BEGIN:VCALENDAR
VERSION:2.0
PRODID:-//https://www.ciudadreal.es//NONSGML kigkonsult.se iCalcreator 2.29
 .29//
CALSCALE:GREGORIAN
METHOD:PUBLISH
UID:8af37ae5-b58c-42c6-b0d4-807e9278c9f8
X-WR-CALNAME:JCal Pro Calendar
X-WR-CALDESC:Tu calendario de eventos online.
X-WR-TIMEZONE:Europe/Madrid
BEGIN:VTIMEZONE
TZID:Europe/Madrid
BEGIN:STANDARD
TZNAME:CET
DTSTART:20251026T030000
TZOFFSETFROM:+0200
TZOFFSETTO:+0100
RDATE:20261025T030000
END:STANDARD
BEGIN:DAYLIGHT
TZNAME:CEST
DTSTART:20260329T020000
TZOFFSETFROM:+0100
TZOFFSETTO:+0200
RDATE:20270328T020000
END:DAYLIGHT
END:VTIMEZONE
BEGIN:VEVENT
UID:20260201T100000CET-3082gU3kn2@https://www.ciudadreal.es/
DTSTAMP:20260424T145446Z
CATEGORIES:Deporte
DESCRIPTION:<p>A cargo de: Basket Cervantes C. R. Negro y BV. Creo tu Sabor
 <br data-start='9065' data-end='9068' /> Lugar: Polideportivo Puerta de Sa
 nta María – Pabellón<br data-start='9121' data-end='9124' /> Fecha y hora:
  Domingo 1 de febrero de 2026\, 10:00 h</p>\n<hr />\n<p><em class='pdf'><a
  href='documentos/cultura/2026/ACTIVIDAD_FIN_DE_SEMANA_29_enero.pdf' targe
 t='_blank'>Actividad Fin De Semana 29 Enero&gt\;&gt\;</a></em></p>
DTSTART;TZID=Europe/Madrid:20260201T100000
DTEND;TZID=Europe/Madrid:20260201T100000
SUMMARY:BALONCESTO JUNIOR U19 MASCULINO: BASKET CERVANTES C. R. NEGRO vs BV
 . CREO TU SABOR
URL:https://www.ciudadreal.es/agenda-turismo/83-deporte/20877-baloncesto-ju
 nior-u19-masculino-basket-cervantes-c-r-negro-vs-bv-creo-tu-sabor.html
X-ALT-DESC;FMTTYPE=TEXT/HTML:<p>A cargo de: Basket Cervantes C. R. Negro y 
 BV. Creo tu Sabor<br data-start='9065' data-end='9068' /> Lugar: Polidepor
 tivo Puerta de Santa María – Pabellón<br data-start='9121' data-end='9124'
  /> Fecha y hora: Domingo 1 de febrero de 2026\, 10:00 h</p>\n<hr />\n<p><
 em class='pdf'><a href='documentos/cultura/2026/ACTIVIDAD_FIN_DE_SEMANA_29
 _enero.pdf' target='_blank'>Actividad Fin De Semana 29 Enero&gt\;&gt\;</a>
 </em></p>
END:VEVENT
BEGIN:VEVENT
UID:20260201T103000CET-161458XeUX@https://www.ciudadreal.es/
DTSTAMP:20260424T145446Z
CATEGORIES:Deporte
DESCRIPTION:<p>A cargo de: Globalcaja BM Caserio y Ayto/Handball Manzanares
 <br data-start='12337' data-end='12340' /> Lugar: Pabellón Quijote Arena<b
 r data-start='12369' data-end='12372' /> Fecha y hora: Domingo 1 de febrer
 o de 2026\, 10:30 h</p>\n<hr />\n<p><em class='pdf'><a href='documentos/cu
 ltura/2026/ACTIVIDAD_FIN_DE_SEMANA_29_enero.pdf' target='_blank'>Actividad
  Fin De Semana 29 Enero&gt\;&gt\;</a></em></p>
DTSTART;TZID=Europe/Madrid:20260201T103000
DTEND;TZID=Europe/Madrid:20260201T103000
SUMMARY:BALONMANO CADETE MASCULINO: GLOBALCAJA BM CASERIO vs AYTO/HANDBALL 
 MANZANARES
URL:https://www.ciudadreal.es/agenda-turismo/83-deporte/20892-balonmano-cad
 ete-masculino-globalcaja-bm-caserio-vs-ayto-handball-manzanares.html
X-ALT-DESC;FMTTYPE=TEXT/HTML:<p>A cargo de: Globalcaja BM Caserio y Ayto/Ha
 ndball Manzanares<br data-start='12337' data-end='12340' /> Lugar: Pabelló
 n Quijote Arena<br data-start='12369' data-end='12372' /> Fecha y hora: Do
 mingo 1 de febrero de 2026\, 10:30 h</p>\n<hr />\n<p><em class='pdf'><a hr
 ef='documentos/cultura/2026/ACTIVIDAD_FIN_DE_SEMANA_29_enero.pdf' target='
 _blank'>Actividad Fin De Semana 29 Enero&gt\;&gt\;</a></em></p>
END:VEVENT
BEGIN:VEVENT
UID:20260201T133000CET-5672rARKgO@https://www.ciudadreal.es/
DTSTAMP:20260424T145446Z
CATEGORIES:Deporte
DESCRIPTION:<p>A cargo de: BM Alarcos Ciudad Real y Aural Centros Auditivos
  BM. Málaga<br data-start='12599' data-end='12602' /> Lugar: Pabellón Quij
 ote Arena<br data-start='12631' data-end='12634' /> Fecha y hora: Domingo 
 1 de febrero de 2026\, 13:30 h</p>\n<hr />\n<p><em class='pdf'><a href='do
 cumentos/cultura/2026/ACTIVIDAD_FIN_DE_SEMANA_29_enero.pdf' target='_blank
 '>Actividad Fin De Semana 29 Enero&gt\;&gt\;</a></em></p>
DTSTART;TZID=Europe/Madrid:20260201T133000
DTEND;TZID=Europe/Madrid:20260201T133000
SUMMARY:BALONMANO PRIMERA NACIONAL MASCULINO: BM ALARCOS CIUDAD REAL vs AUR
 AL CENTROS AUDITIVOS BM. MÁLAGA
URL:https://www.ciudadreal.es/agenda-turismo/83-deporte/20893-balonmano-pri
 mera-nacional-masculino-bm-alarcos-ciudad-real-vs-aural-centros-auditivos-
 bm-malaga.html
X-ALT-DESC;FMTTYPE=TEXT/HTML:<p>A cargo de: BM Alarcos Ciudad Real y Aural 
 Centros Auditivos BM. Málaga<br data-start='12599' data-end='12602' /> Lug
 ar: Pabellón Quijote Arena<br data-start='12631' data-end='12634' /> Fecha
  y hora: Domingo 1 de febrero de 2026\, 13:30 h</p>\n<hr />\n<p><em class=
 'pdf'><a href='documentos/cultura/2026/ACTIVIDAD_FIN_DE_SEMANA_29_enero.pd
 f' target='_blank'>Actividad Fin De Semana 29 Enero&gt\;&gt\;</a></em></p>
END:VEVENT
BEGIN:VEVENT
UID:20260201T160000CET-3978pFJIcp@https://www.ciudadreal.es/
DTSTAMP:20260424T145446Z
CATEGORIES:Deporte
DESCRIPTION:<p>A cargo de: CD Las Casas y U.D. La Fuente Grupo 3P<br data-s
 tart='9308' data-end='9311' /> Lugar: Polideportivo El Ejido (Las Casas) –
  Campo<br data-start='9360' data-end='9363' /> Fecha y hora: Domingo 1 de 
 febrero de 2026\, 16:00 h</p>\n<hr />\n<p><em class='pdf'><a href='documen
 tos/cultura/2026/ACTIVIDAD_FIN_DE_SEMANA_29_enero.pdf' target='_blank'>Act
 ividad Fin De Semana 29 Enero&gt\;&gt\;</a></em></p>
DTSTART;TZID=Europe/Madrid:20260201T160000
DTEND;TZID=Europe/Madrid:20260201T160000
SUMMARY:FÚTBOL SEGUNDA AUTONÓMICA MASCULINO: CD LAS CASAS vs U.D. LA FUENTE
  GRUPO 3P
URL:https://www.ciudadreal.es/agenda-turismo/83-deporte/20878-futbol-segund
 a-autonomica-masculino-cd-las-casas-vs-u-d-la-fuente-grupo-3p.html
X-ALT-DESC;FMTTYPE=TEXT/HTML:<p>A cargo de: CD Las Casas y U.D. La Fuente G
 rupo 3P<br data-start='9308' data-end='9311' /> Lugar: Polideportivo El Ej
 ido (Las Casas) – Campo<br data-start='9360' data-end='9363' /> Fecha y ho
 ra: Domingo 1 de febrero de 2026\, 16:00 h</p>\n<hr />\n<p><em class='pdf'
 ><a href='documentos/cultura/2026/ACTIVIDAD_FIN_DE_SEMANA_29_enero.pdf' ta
 rget='_blank'>Actividad Fin De Semana 29 Enero&gt\;&gt\;</a></em></p>
END:VEVENT
BEGIN:VEVENT
UID:20260201T170000CET-5105SWDzae@https://www.ciudadreal.es/
DTSTAMP:20260424T145446Z
CATEGORIES:Deporte
DESCRIPTION:<p>A cargo de: CD Manchego y Calvo Sotelo Puertollano CF<br dat
 a-start='5996' data-end='5999' /> Lugar: Polideportivo Rey Juan Carlos I –
  Campo 3<br data-start='6047' data-end='6050' /> Fecha y hora: Domingo 1 d
 e febrero de 2026\, 17:00 h</p>\n<hr />\n<p><em class='pdf'><a href='docum
 entos/cultura/2026/ACTIVIDAD_FIN_DE_SEMANA_29_enero.pdf' target='_blank'>A
 ctividad Fin De Semana 29 Enero&gt\;&gt\;</a></em></p>
DTSTART;TZID=Europe/Madrid:20260201T170000
DTEND;TZID=Europe/Madrid:20260201T170000
SUMMARY:FÚTBOL 2º AUTONÓMICA GRUPO II: CD MANCHEGO vs CALVO SOTELO PUERTOLL
 ANO CF
URL:https://www.ciudadreal.es/agenda-turismo/83-deporte/20864-futbol-2-auto
 nomica-grupo-ii-cd-manchego-vs-calvo-sotelo-puertollano-cf.html
X-ALT-DESC;FMTTYPE=TEXT/HTML:<p>A cargo de: CD Manchego y Calvo Sotelo Puer
 tollano CF<br data-start='5996' data-end='5999' /> Lugar: Polideportivo Re
 y Juan Carlos I – Campo 3<br data-start='6047' data-end='6050' /> Fecha y 
 hora: Domingo 1 de febrero de 2026\, 17:00 h</p>\n<hr />\n<p><em class='pd
 f'><a href='documentos/cultura/2026/ACTIVIDAD_FIN_DE_SEMANA_29_enero.pdf' 
 target='_blank'>Actividad Fin De Semana 29 Enero&gt\;&gt\;</a></em></p>
END:VEVENT
END:VCALENDAR
