BEGIN:VCALENDAR
VERSION:2.0
PRODID:-//https://www.ciudadreal.es//NONSGML kigkonsult.se iCalcreator 2.29
 .29//
CALSCALE:GREGORIAN
METHOD:PUBLISH
UID:80a211c1-f06b-436f-958a-cd76e686280f
X-WR-CALNAME:JCal Pro Calendar
X-WR-CALDESC:Tu calendario de eventos online.
X-WR-TIMEZONE:Europe/Madrid
BEGIN:VTIMEZONE
TZID:Europe/Madrid
BEGIN:STANDARD
TZNAME:CET
DTSTART:20251026T030000
TZOFFSETFROM:+0200
TZOFFSETTO:+0100
RDATE:20261025T030000
END:STANDARD
BEGIN:DAYLIGHT
TZNAME:CEST
DTSTART:20260329T020000
TZOFFSETFROM:+0100
TZOFFSETTO:+0200
RDATE:20270328T020000
END:DAYLIGHT
END:VTIMEZONE
BEGIN:VEVENT
UID:20260130T161500CET-7727CAuwsL@https://www.ciudadreal.es/
DTSTAMP:20260424T145406Z
CATEGORIES:Deporte
DESCRIPTION:<p>A cargo de: CD Manchego B y CD Ciudad Real FC Rojo<br data-s
 tart='112' data-end='115' /> Lugar: Polideportivo Rey Juan Carlos I – Camp
 o 4<br data-start='163' data-end='166' /> Fecha y hora: Viernes 30 de ener
 o de 2026\, 16:15 h</p>\n<hr />\n<p><em class='pdf'><a href='documentos/cu
 ltura/2026/ACTIVIDAD_FIN_DE_SEMANA_29_enero.pdf' target='_blank'>Actividad
  Fin De Semana 29 Enero&gt\;&gt\;</a></em></p>\n<!--<p><em class='pdf'><a 
 href='documentos/cultura/2026/Lunes_Musical_Febrero_2026.pdf' target='_bla
 nk'>Programación Cultura Febrero 2026&gt\;&gt\;</a></em></p>-->
DTSTART;TZID=Europe/Madrid:20260130T161500
DTEND;TZID=Europe/Madrid:20260130T161500
SUMMARY:FÚTBOL PREBENJAMÍN: CD MANCHEGO B vs CD CIUDAD REAL FC ROJO
URL:https://www.ciudadreal.es/agenda-turismo/83-deporte/20839-futbol-preben
 jamin-cd-manchego-b-vs-cd-ciudad-real-fc-rojo.html
X-ALT-DESC;FMTTYPE=TEXT/HTML:<p>A cargo de: CD Manchego B y CD Ciudad Real 
 FC Rojo<br data-start='112' data-end='115' /> Lugar: Polideportivo Rey Jua
 n Carlos I – Campo 4<br data-start='163' data-end='166' /> Fecha y hora: V
 iernes 30 de enero de 2026\, 16:15 h</p>\n<hr />\n<p><em class='pdf'><a hr
 ef='documentos/cultura/2026/ACTIVIDAD_FIN_DE_SEMANA_29_enero.pdf' target='
 _blank'>Actividad Fin De Semana 29 Enero&gt\;&gt\;</a></em></p>\n<!--<p><e
 m class='pdf'><a href='documentos/cultura/2026/Lunes_Musical_Febrero_2026.
 pdf' target='_blank'>Programación Cultura Febrero 2026&gt\;&gt\;</a></em><
 /p>-->
END:VEVENT
BEGIN:VEVENT
UID:20260130T163000CET-1332pbglOP@https://www.ciudadreal.es/
DTSTAMP:20260424T145406Z
CATEGORIES:Deporte
DESCRIPTION:<p>A cargo de: CD Ciudad Real FC Amarillo y CD Manchego D<br da
 ta-start='337' data-end='340' /> Lugar: Polideportivo Rey Juan Carlos I – 
 Campo 2 A<br data-start='390' data-end='393' /> Fecha y hora: Viernes 30 d
 e enero de 2026\, 16:30 h</p>\n<hr />\n<p><em class='pdf'><a href='documen
 tos/cultura/2026/ACTIVIDAD_FIN_DE_SEMANA_29_enero.pdf' target='_blank'>Act
 ividad Fin De Semana 29 Enero&gt\;&gt\;</a></em></p>
DTSTART;TZID=Europe/Madrid:20260130T163000
DTEND;TZID=Europe/Madrid:20260130T163000
SUMMARY:FÚTBOL BENJAMÍN: CD CIUDAD REAL FC AMARILLO vs CD MANCHEGO D
URL:https://www.ciudadreal.es/agenda-turismo/83-deporte/20840-futbol-benjam
 in-cd-ciudad-real-fc-amarillo-vs-cd-manchego-d.html
X-ALT-DESC;FMTTYPE=TEXT/HTML:<p>A cargo de: CD Ciudad Real FC Amarillo y CD
  Manchego D<br data-start='337' data-end='340' /> Lugar: Polideportivo Rey
  Juan Carlos I – Campo 2 A<br data-start='390' data-end='393' /> Fecha y h
 ora: Viernes 30 de enero de 2026\, 16:30 h</p>\n<hr />\n<p><em class='pdf'
 ><a href='documentos/cultura/2026/ACTIVIDAD_FIN_DE_SEMANA_29_enero.pdf' ta
 rget='_blank'>Actividad Fin De Semana 29 Enero&gt\;&gt\;</a></em></p>
END:VEVENT
BEGIN:VEVENT
UID:20260130T163000CET-1104vw1SUk@https://www.ciudadreal.es/
DTSTAMP:20260424T145406Z
CATEGORIES:Deporte
DESCRIPTION:<p>A cargo de: Prado-Marianistas B y CD Santo Tomás B<br data-s
 tart='564' data-end='567' /> Lugar: Polideportivo Rey Juan Carlos I – Camp
 o 3 B<br data-start='617' data-end='620' /> Fecha y hora: Viernes 30 de en
 ero de 2026\, 16:30 h</p>\n<hr />\n<p><em class='pdf'><a href='documentos/
 cultura/2026/ACTIVIDAD_FIN_DE_SEMANA_29_enero.pdf' target='_blank'>Activid
 ad Fin De Semana 29 Enero&gt\;&gt\;</a></em></p>
DTSTART;TZID=Europe/Madrid:20260130T163000
DTEND;TZID=Europe/Madrid:20260130T163000
SUMMARY:FÚTBOL ALEVÍN MASCULINO: PRADO-MARIANISTAS B vs CD SANTO TOMÁS B
URL:https://www.ciudadreal.es/agenda-turismo/83-deporte/20841-futbol-alevin
 -masculino-prado-marianistas-b-vs-cd-santo-tomas-b.html
X-ALT-DESC;FMTTYPE=TEXT/HTML:<p>A cargo de: Prado-Marianistas B y CD Santo 
 Tomás B<br data-start='564' data-end='567' /> Lugar: Polideportivo Rey Jua
 n Carlos I – Campo 3 B<br data-start='617' data-end='620' /> Fecha y hora:
  Viernes 30 de enero de 2026\, 16:30 h</p>\n<hr />\n<p><em class='pdf'><a 
 href='documentos/cultura/2026/ACTIVIDAD_FIN_DE_SEMANA_29_enero.pdf' target
 ='_blank'>Actividad Fin De Semana 29 Enero&gt\;&gt\;</a></em></p>
END:VEVENT
BEGIN:VEVENT
UID:20260130T163000CET-8503sK3pWn@https://www.ciudadreal.es/
DTSTAMP:20260424T145406Z
CATEGORIES:Deporte
DESCRIPTION:<p>A cargo de: CD Manchego Juan Carlos y CD Ciudad Real FC Nara
 nja<br data-start='817' data-end='820' /> Lugar: Polideportivo Rey Juan Ca
 rlos I – Campo 2 B<br data-start='870' data-end='873' /> Fecha y hora: Vie
 rnes 30 de enero de 2026\, 16:30 h</p>\n<hr />\n<p><em class='pdf'><a href
 ='documentos/cultura/2026/ACTIVIDAD_FIN_DE_SEMANA_29_enero.pdf' target='_b
 lank'>Actividad Fin De Semana 29 Enero&gt\;&gt\;</a></em></p>
DTSTART;TZID=Europe/Madrid:20260130T163000
DTEND;TZID=Europe/Madrid:20260130T163000
SUMMARY:FÚTBOL ALEVÍN MASCULINO: CD MANCHEGO JUAN CARLOS vs CD CIUDAD REAL 
 FC NARANJA
URL:https://www.ciudadreal.es/agenda-turismo/83-deporte/20842-futbol-alevin
 -masculino-cd-manchego-juan-carlos-vs-cd-ciudad-real-fc-naranja.html
X-ALT-DESC;FMTTYPE=TEXT/HTML:<p>A cargo de: CD Manchego Juan Carlos y CD Ci
 udad Real FC Naranja<br data-start='817' data-end='820' /> Lugar: Polidepo
 rtivo Rey Juan Carlos I – Campo 2 B<br data-start='870' data-end='873' /> 
 Fecha y hora: Viernes 30 de enero de 2026\, 16:30 h</p>\n<hr />\n<p><em cl
 ass='pdf'><a href='documentos/cultura/2026/ACTIVIDAD_FIN_DE_SEMANA_29_ener
 o.pdf' target='_blank'>Actividad Fin De Semana 29 Enero&gt\;&gt\;</a></em>
 </p>
END:VEVENT
BEGIN:VEVENT
UID:20260130T163000CET-26891HOXbk@https://www.ciudadreal.es/
DTSTAMP:20260424T145406Z
CATEGORIES:Deporte
DESCRIPTION:<p>A cargo de: CD Manchego Prieto y CD Ciudad Real FC Magenta<b
 r data-start='1060' data-end='1063' /> Lugar: Polideportivo Rey Juan Carlo
 s I – Campo 3 A<br data-start='1113' data-end='1116' /> Fecha y hora: Vier
 nes 30 de enero de 2026\, 16:30 h</p>\n<hr />\n<p><em class='pdf'><a href=
 'documentos/cultura/2026/ACTIVIDAD_FIN_DE_SEMANA_29_enero.pdf' target='_bl
 ank'>Actividad Fin De Semana 29 Enero&gt\;&gt\;</a></em></p>
DTSTART;TZID=Europe/Madrid:20260130T163000
DTEND;TZID=Europe/Madrid:20260130T163000
SUMMARY:FÚTBOL ALEVÍN MASCULINO: CD MANCHEGO PRIETO vs CD CIUDAD REAL FC MA
 GENTA
URL:https://www.ciudadreal.es/agenda-turismo/83-deporte/20843-futbol-alevin
 -masculino-cd-manchego-prieto-vs-cd-ciudad-real-fc-magenta.html
X-ALT-DESC;FMTTYPE=TEXT/HTML:<p>A cargo de: CD Manchego Prieto y CD Ciudad 
 Real FC Magenta<br data-start='1060' data-end='1063' /> Lugar: Polideporti
 vo Rey Juan Carlos I – Campo 3 A<br data-start='1113' data-end='1116' /> F
 echa y hora: Viernes 30 de enero de 2026\, 16:30 h</p>\n<hr />\n<p><em cla
 ss='pdf'><a href='documentos/cultura/2026/ACTIVIDAD_FIN_DE_SEMANA_29_enero
 .pdf' target='_blank'>Actividad Fin De Semana 29 Enero&gt\;&gt\;</a></em><
 /p>
END:VEVENT
BEGIN:VEVENT
UID:20260130T163000CET-1514H06DrC@https://www.ciudadreal.es/
DTSTAMP:20260424T145406Z
CATEGORIES:Deporte
DESCRIPTION:<p>A cargo de: Manchego Alevín Flox y C.D. Ciudad Real FC Azul<
 br data-start='7352' data-end='7355' /> Lugar: Ciudad Deportiva Sur – Camp
 o<br data-start='7390' data-end='7393' /> Fecha y hora: Viernes 30 de ener
 o de 2026\, 16:30 h</p>\n<hr />\n<p><em class='pdf'><a href='documentos/cu
 ltura/2026/ACTIVIDAD_FIN_DE_SEMANA_29_enero.pdf' target='_blank'>Actividad
  Fin De Semana 29 Enero&gt\;&gt\;</a></em></p>
DTSTART;TZID=Europe/Madrid:20260130T163000
DTEND;TZID=Europe/Madrid:20260130T163000
SUMMARY:FÚTBOL ALEVÍN MASCULINO: MANCHEGO ALEVÍN FLOX vs C.D. CIUDAD REAL F
 C AZUL
URL:https://www.ciudadreal.es/agenda-turismo/83-deporte/20870-futbol-alevin
 -masculino-manchego-alevin-flox-vs-c-d-ciudad-real-fc-azul.html
X-ALT-DESC;FMTTYPE=TEXT/HTML:<p>A cargo de: Manchego Alevín Flox y C.D. Ciu
 dad Real FC Azul<br data-start='7352' data-end='7355' /> Lugar: Ciudad Dep
 ortiva Sur – Campo<br data-start='7390' data-end='7393' /> Fecha y hora: V
 iernes 30 de enero de 2026\, 16:30 h</p>\n<hr />\n<p><em class='pdf'><a hr
 ef='documentos/cultura/2026/ACTIVIDAD_FIN_DE_SEMANA_29_enero.pdf' target='
 _blank'>Actividad Fin De Semana 29 Enero&gt\;&gt\;</a></em></p>
END:VEVENT
BEGIN:VEVENT
UID:20260130T163000CET-8459leB96M@https://www.ciudadreal.es/
DTSTAMP:20260424T145406Z
CATEGORIES:Deporte
DESCRIPTION:<p>A cargo de: CD Santo Tomás y C.D. Ciudad Real Morado<br data
 -start='7568' data-end='7571' /> Lugar: Ciudad Deportiva Sur – Campo<br da
 ta-start='7606' data-end='7609' /> Fecha y hora: Viernes 30 de enero de 20
 26\, 16:30 h</p>\n<hr />\n<p><em class='pdf'><a href='documentos/cultura/2
 026/ACTIVIDAD_FIN_DE_SEMANA_29_enero.pdf' target='_blank'>Actividad Fin De
  Semana 29 Enero&gt\;&gt\;</a></em></p>
DTSTART;TZID=Europe/Madrid:20260130T163000
DTEND;TZID=Europe/Madrid:20260130T163000
SUMMARY:Dijiste: Programación Cultura Febrero2026.pdf PDF LUNES MUSICAL: CO
 RAL POLIFÓNICA DE CIUDAD REAL (CORO DE VILLANCICOS)  A cargo de: Coral Pol
 ifónica de Ciudad Real Lugar: Salón del Antiguo Casino Fecha y hora: Lunes
  22 de diciembre de 2025\, 20:30 h de es
URL:https://www.ciudadreal.es/agenda-turismo/83-deporte/20871-dijiste-progr
 amacion-cultura-febrero2026-pdf-pdf-lunes-musical-coral-polifonica-de-ciud
 ad-real-coro-de-villancicos-a-cargo-de-coral-polifonica-de-ciudad-real-lug
 ar-salon-del-antiguo-casino-fecha-y-hora-lunes-22-de-diciembre-de-2025-20-
 30-h-de-esta-manera-.html
X-ALT-DESC;FMTTYPE=TEXT/HTML:<p>A cargo de: CD Santo Tomás y C.D. Ciudad Re
 al Morado<br data-start='7568' data-end='7571' /> Lugar: Ciudad Deportiva 
 Sur – Campo<br data-start='7606' data-end='7609' /> Fecha y hora: Viernes 
 30 de enero de 2026\, 16:30 h</p>\n<hr />\n<p><em class='pdf'><a href='doc
 umentos/cultura/2026/ACTIVIDAD_FIN_DE_SEMANA_29_enero.pdf' target='_blank'
 >Actividad Fin De Semana 29 Enero&gt\;&gt\;</a></em></p>
END:VEVENT
BEGIN:VEVENT
UID:20260130T163000CET-7356ICG3Tj@https://www.ciudadreal.es/
DTSTAMP:20260424T145406Z
CATEGORIES:Deporte
DESCRIPTION:<p>A cargo de: Manchego Alevín SBEND y C.D. Ciudad Real FC Verd
 e<br data-start='10178' data-end='10181' /> Lugar: CD Larache – Campo<br d
 ata-start='10206' data-end='10209' /> Fecha y hora: Viernes 30 de enero de
  2026\, 16:30 h</p>\n<hr />\n<p><em class='pdf'><a href='documentos/cultur
 a/2026/ACTIVIDAD_FIN_DE_SEMANA_29_enero.pdf' target='_blank'>Actividad Fin
  De Semana 29 Enero&gt\;&gt\;</a></em></p>
DTSTART;TZID=Europe/Madrid:20260130T163000
DTEND;TZID=Europe/Madrid:20260130T163000
SUMMARY:FÚTBOL ALEVÍN MASCULINO: MANCHEGO ALEVÍN SBEND vs C.D. CIUDAD REAL 
 FC VERDE
URL:https://www.ciudadreal.es/agenda-turismo/83-deporte/20882-futbol-alevin
 -masculino-manchego-alevin-sbend-vs-c-d-ciudad-real-fc-verde.html
X-ALT-DESC;FMTTYPE=TEXT/HTML:<p>A cargo de: Manchego Alevín SBEND y C.D. Ci
 udad Real FC Verde<br data-start='10178' data-end='10181' /> Lugar: CD Lar
 ache – Campo<br data-start='10206' data-end='10209' /> Fecha y hora: Viern
 es 30 de enero de 2026\, 16:30 h</p>\n<hr />\n<p><em class='pdf'><a href='
 documentos/cultura/2026/ACTIVIDAD_FIN_DE_SEMANA_29_enero.pdf' target='_bla
 nk'>Actividad Fin De Semana 29 Enero&gt\;&gt\;</a></em></p>
END:VEVENT
BEGIN:VEVENT
UID:20260130T163000CET-52792w5PFp@https://www.ciudadreal.es/
DTSTAMP:20260424T145406Z
CATEGORIES:Deporte
DESCRIPTION:<p>A cargo de: CD Manchego C y CD Manchego A<br data-start='103
 57' data-end='10360' /> Lugar: CD Larache – Campo<br data-start='10385' da
 ta-end='10388' /> Fecha y hora: Viernes 30 de enero de 2026\, 16:30 h</p>
 \n<hr />\n<p><em class='pdf'><a href='documentos/cultura/2026/ACTIVIDAD_FI
 N_DE_SEMANA_29_enero.pdf' target='_blank'>Actividad Fin De Semana 29 Enero
 &gt\;&gt\;</a></em></p>
DTSTART;TZID=Europe/Madrid:20260130T163000
DTEND;TZID=Europe/Madrid:20260130T163000
SUMMARY:FÚTBOL PREBENJAMÍN: CD MANCHEGO C vs CD MANCHEGO A
URL:https://www.ciudadreal.es/agenda-turismo/83-deporte/20883-futbol-preben
 jamin-cd-manchego-c-vs-cd-manchego-a.html
X-ALT-DESC;FMTTYPE=TEXT/HTML:<p>A cargo de: CD Manchego C y CD Manchego A<b
 r data-start='10357' data-end='10360' /> Lugar: CD Larache – Campo<br data
 -start='10385' data-end='10388' /> Fecha y hora: Viernes 30 de enero de 20
 26\, 16:30 h</p>\n<hr />\n<p><em class='pdf'><a href='documentos/cultura/2
 026/ACTIVIDAD_FIN_DE_SEMANA_29_enero.pdf' target='_blank'>Actividad Fin De
  Semana 29 Enero&gt\;&gt\;</a></em></p>
END:VEVENT
BEGIN:VEVENT
UID:20260130T170000CET-1519Fp9Eai@https://www.ciudadreal.es/
DTSTAMP:20260424T145406Z
CATEGORIES:Deporte
DESCRIPTION:<p>A cargo de: CD Manchego A y Prado-Marianistas B<br data-star
 t='1273' data-end='1276' /> Lugar: Polideportivo Rey Juan Carlos I – Campo
  4<br data-start='1324' data-end='1327' /> Fecha y hora: Viernes 30 de ene
 ro de 2026\, 17:00 h</p>\n<hr />\n<p><em class='pdf'><a href='documentos/c
 ultura/2026/ACTIVIDAD_FIN_DE_SEMANA_29_enero.pdf' target='_blank'>Activida
 d Fin De Semana 29 Enero&gt\;&gt\;</a></em></p>
DTSTART;TZID=Europe/Madrid:20260130T170000
DTEND;TZID=Europe/Madrid:20260130T170000
SUMMARY:FÚTBOL BENJAMÍN: CD MANCHEGO A vs PRADO-MARIANISTAS B
URL:https://www.ciudadreal.es/agenda-turismo/83-deporte/20844-futbol-benjam
 in-cd-manchego-a-vs-prado-marianistas-b.html
X-ALT-DESC;FMTTYPE=TEXT/HTML:<p>A cargo de: CD Manchego A y Prado-Marianist
 as B<br data-start='1273' data-end='1276' /> Lugar: Polideportivo Rey Juan
  Carlos I – Campo 4<br data-start='1324' data-end='1327' /> Fecha y hora: 
 Viernes 30 de enero de 2026\, 17:00 h</p>\n<hr />\n<p><em class='pdf'><a h
 ref='documentos/cultura/2026/ACTIVIDAD_FIN_DE_SEMANA_29_enero.pdf' target=
 '_blank'>Actividad Fin De Semana 29 Enero&gt\;&gt\;</a></em></p>
END:VEVENT
BEGIN:VEVENT
UID:20260130T171500CET-732040VcHF@https://www.ciudadreal.es/
DTSTAMP:20260424T145406Z
CATEGORIES:Deporte
DESCRIPTION:<p>A cargo de: CD Ciudad Real FC Verde y CD Ciudad Real FC Púrp
 ura<br data-start='1519' data-end='1522' /> Lugar: Polideportivo Rey Juan 
 Carlos I – Campo 4<br data-start='1570' data-end='1573' /> Fecha y hora: V
 iernes 30 de enero de 2026\, 17:15 h</p>\n<hr />\n<p><em class='pdf'><a hr
 ef='documentos/cultura/2026/ACTIVIDAD_FIN_DE_SEMANA_29_enero.pdf' target='
 _blank'>Actividad Fin De Semana 29 Enero&gt\;&gt\;</a></em></p>
DTSTART;TZID=Europe/Madrid:20260130T171500
DTEND;TZID=Europe/Madrid:20260130T171500
SUMMARY:FÚTBOL PREBENJAMÍN: CD CIUDAD REAL FC VERDE vs CD CIUDAD REAL FC PÚ
 RPURA
URL:https://www.ciudadreal.es/agenda-turismo/83-deporte/20845-futbol-preben
 jamin-cd-ciudad-real-fc-verde-vs-cd-ciudad-real-fc-purpura.html
X-ALT-DESC;FMTTYPE=TEXT/HTML:<p>A cargo de: CD Ciudad Real FC Verde y CD Ci
 udad Real FC Púrpura<br data-start='1519' data-end='1522' /> Lugar: Polide
 portivo Rey Juan Carlos I – Campo 4<br data-start='1570' data-end='1573' /
 > Fecha y hora: Viernes 30 de enero de 2026\, 17:15 h</p>\n<hr />\n<p><em 
 class='pdf'><a href='documentos/cultura/2026/ACTIVIDAD_FIN_DE_SEMANA_29_en
 ero.pdf' target='_blank'>Actividad Fin De Semana 29 Enero&gt\;&gt\;</a></e
 m></p>
END:VEVENT
BEGIN:VEVENT
UID:20260130T180000CET-7404KIuUbz@https://www.ciudadreal.es/
DTSTAMP:20260424T145406Z
CATEGORIES:Deporte
DESCRIPTION:<p>A cargo de: Prado-Marianistas y CD Santo Tomás<br data-start
 ='1736' data-end='1739' /> Lugar: Polideportivo Rey Juan Carlos I – Campo 
 3 B<br data-start='1789' data-end='1792' /> Fecha y hora: Viernes 30 de en
 ero de 2026\, 18:00 h</p>\n<hr />\n<p><em class='pdf'><a href='documentos/
 cultura/2026/ACTIVIDAD_FIN_DE_SEMANA_29_enero.pdf' target='_blank'>Activid
 ad Fin De Semana 29 Enero&gt\;&gt\;</a></em></p>
DTSTART;TZID=Europe/Madrid:20260130T180000
DTEND;TZID=Europe/Madrid:20260130T180000
SUMMARY:FÚTBOL ALEVÍN MASCULINO: PRADO-MARIANISTAS vs CD SANTO TOMÁS
URL:https://www.ciudadreal.es/agenda-turismo/83-deporte/20846-futbol-alevin
 -masculino-prado-marianistas-vs-cd-santo-tomas.html
X-ALT-DESC;FMTTYPE=TEXT/HTML:<p>A cargo de: Prado-Marianistas y CD Santo To
 más<br data-start='1736' data-end='1739' /> Lugar: Polideportivo Rey Juan 
 Carlos I – Campo 3 B<br data-start='1789' data-end='1792' /> Fecha y hora:
  Viernes 30 de enero de 2026\, 18:00 h</p>\n<hr />\n<p><em class='pdf'><a 
 href='documentos/cultura/2026/ACTIVIDAD_FIN_DE_SEMANA_29_enero.pdf' target
 ='_blank'>Actividad Fin De Semana 29 Enero&gt\;&gt\;</a></em></p>
END:VEVENT
BEGIN:VEVENT
UID:20260130T180000CET-1457E7kUFP@https://www.ciudadreal.es/
DTSTAMP:20260424T145406Z
CATEGORIES:Deporte
DESCRIPTION:<p>A cargo de: CD Santo Tomás y CD Ciudad Real FC Verde<br data
 -start='1959' data-end='1962' /> Lugar: Polideportivo Rey Juan Carlos I – 
 Campo 2 A<br data-start='2012' data-end='2015' /> Fecha y hora: Viernes 30
  de enero de 2026\, 18:00 h</p>\n<hr />\n<p><em class='pdf'><a href='docum
 entos/cultura/2026/ACTIVIDAD_FIN_DE_SEMANA_29_enero.pdf' target='_blank'>A
 ctividad Fin De Semana 29 Enero&gt\;&gt\;</a></em></p>
DTSTART;TZID=Europe/Madrid:20260130T180000
DTEND;TZID=Europe/Madrid:20260130T180000
SUMMARY:FÚTBOL BENJAMÍN: CD SANTO TOMÁS vs CD CIUDAD REAL FC VERDE
URL:https://www.ciudadreal.es/agenda-turismo/83-deporte/20847-futbol-benjam
 in-cd-santo-tomas-vs-cd-ciudad-real-fc-verde.html
X-ALT-DESC;FMTTYPE=TEXT/HTML:<p>A cargo de: CD Santo Tomás y CD Ciudad Real
  FC Verde<br data-start='1959' data-end='1962' /> Lugar: Polideportivo Rey
  Juan Carlos I – Campo 2 A<br data-start='2012' data-end='2015' /> Fecha y
  hora: Viernes 30 de enero de 2026\, 18:00 h</p>\n<hr />\n<p><em class='pd
 f'><a href='documentos/cultura/2026/ACTIVIDAD_FIN_DE_SEMANA_29_enero.pdf' 
 target='_blank'>Actividad Fin De Semana 29 Enero&gt\;&gt\;</a></em></p>
END:VEVENT
BEGIN:VEVENT
UID:20260130T180000CET-0991XVM9et@https://www.ciudadreal.es/
DTSTAMP:20260424T145406Z
CATEGORIES:Deporte
DESCRIPTION:<p>A cargo de: CD Manchego Lillo y CD Ciudad Real FC Rojo<br da
 ta-start='2194' data-end='2197' /> Lugar: Polideportivo Rey Juan Carlos I 
 – Campo 3 A<br data-start='2247' data-end='2250' /> Fecha y hora: Viernes 
 30 de enero de 2026\, 18:00 h</p>\n<hr />\n<p><em class='pdf'><a href='doc
 umentos/cultura/2026/ACTIVIDAD_FIN_DE_SEMANA_29_enero.pdf' target='_blank'
 >Actividad Fin De Semana 29 Enero&gt\;&gt\;</a></em></p>
DTSTART;TZID=Europe/Madrid:20260130T180000
DTEND;TZID=Europe/Madrid:20260130T180000
SUMMARY:FÚTBOL ALEVÍN MASCULINO: CD MANCHEGO LILLO vs CD CIUDAD REAL FC ROJ
 O
URL:https://www.ciudadreal.es/agenda-turismo/83-deporte/20848-futbol-alevin
 -masculino-cd-manchego-lillo-vs-cd-ciudad-real-fc-rojo.html
X-ALT-DESC;FMTTYPE=TEXT/HTML:<p>A cargo de: CD Manchego Lillo y CD Ciudad R
 eal FC Rojo<br data-start='2194' data-end='2197' /> Lugar: Polideportivo R
 ey Juan Carlos I – Campo 3 A<br data-start='2247' data-end='2250' /> Fecha
  y hora: Viernes 30 de enero de 2026\, 18:00 h</p>\n<hr />\n<p><em class='
 pdf'><a href='documentos/cultura/2026/ACTIVIDAD_FIN_DE_SEMANA_29_enero.pdf
 ' target='_blank'>Actividad Fin De Semana 29 Enero&gt\;&gt\;</a></em></p>
END:VEVENT
BEGIN:VEVENT
UID:20260130T180000CET-3704HC9onj@https://www.ciudadreal.es/
DTSTAMP:20260424T145406Z
CATEGORIES:Deporte
DESCRIPTION:<p>A cargo de: CD Ciudad Real FC Turquesa y CD Ciudad Real FC G
 ris<br data-start='2447' data-end='2450' /> Lugar: Polideportivo Rey Juan 
 Carlos I – Campo 2 B<br data-start='2500' data-end='2503' /> Fecha y hora:
  Viernes 30 de enero de 2026\, 18:00 h</p>\n<hr />\n<p><em class='pdf'><a 
 href='documentos/cultura/2026/ACTIVIDAD_FIN_DE_SEMANA_29_enero.pdf' target
 ='_blank'>Actividad Fin De Semana 29 Enero&gt\;&gt\;</a></em></p>
DTSTART;TZID=Europe/Madrid:20260130T180000
DTEND;TZID=Europe/Madrid:20260130T180000
SUMMARY:FÚTBOL ALEVÍN MASCULINO: CD CIUDAD REAL FC TURQUESA vs CD CIUDAD RE
 AL FC GRIS
URL:https://www.ciudadreal.es/agenda-turismo/83-deporte/20849-futbol-alevin
 -masculino-cd-ciudad-real-fc-turquesa-vs-cd-ciudad-real-fc-gris.html
X-ALT-DESC;FMTTYPE=TEXT/HTML:<p>A cargo de: CD Ciudad Real FC Turquesa y CD
  Ciudad Real FC Gris<br data-start='2447' data-end='2450' /> Lugar: Polide
 portivo Rey Juan Carlos I – Campo 2 B<br data-start='2500' data-end='2503'
  /> Fecha y hora: Viernes 30 de enero de 2026\, 18:00 h</p>\n<hr />\n<p><e
 m class='pdf'><a href='documentos/cultura/2026/ACTIVIDAD_FIN_DE_SEMANA_29_
 enero.pdf' target='_blank'>Actividad Fin De Semana 29 Enero&gt\;&gt\;</a><
 /em></p>
END:VEVENT
BEGIN:VEVENT
UID:20260130T180000CET-2988B0tEVa@https://www.ciudadreal.es/
DTSTAMP:20260424T145406Z
CATEGORIES:Deporte
DESCRIPTION:<p>A cargo de: Manchego Alevín Jose Miguel y C.D. Ciudad Real F
 C Marrón<br data-start='10595' data-end='10598' /> Lugar: CD Larache – Cam
 po<br data-start='10623' data-end='10626' /> Fecha y hora: Viernes 30 de e
 nero de 2026\, 18:00 h</p>\n<hr />\n<p><em class='pdf'><a href='documentos
 /cultura/2026/ACTIVIDAD_FIN_DE_SEMANA_29_enero.pdf' target='_blank'>Activi
 dad Fin De Semana 29 Enero&gt\;&gt\;</a></em></p>
DTSTART;TZID=Europe/Madrid:20260130T180000
DTEND;TZID=Europe/Madrid:20260130T180000
SUMMARY:FÚTBOL ALEVÍN MASCULINO: MANCHEGO ALEVÍN JOSE MIGUEL vs C.D. CIUDAD
  REAL FC MARRÓN
URL:https://www.ciudadreal.es/agenda-turismo/83-deporte/20884-futbol-alevin
 -masculino-manchego-alevin-jose-miguel-vs-c-d-ciudad-real-fc-marron.html
X-ALT-DESC;FMTTYPE=TEXT/HTML:<p>A cargo de: Manchego Alevín Jose Miguel y C
 .D. Ciudad Real FC Marrón<br data-start='10595' data-end='10598' /> Lugar:
  CD Larache – Campo<br data-start='10623' data-end='10626' /> Fecha y hora
 : Viernes 30 de enero de 2026\, 18:00 h</p>\n<hr />\n<p><em class='pdf'><a
  href='documentos/cultura/2026/ACTIVIDAD_FIN_DE_SEMANA_29_enero.pdf' targe
 t='_blank'>Actividad Fin De Semana 29 Enero&gt\;&gt\;</a></em></p>
END:VEVENT
BEGIN:VEVENT
UID:20260130T180000CET-6826ifFvCJ@https://www.ciudadreal.es/
DTSTAMP:20260424T145406Z
CATEGORIES:Deporte
DESCRIPTION:<p>A cargo de: CD Manchego B y CD Manchego C<br data-start='107
 71' data-end='10774' /> Lugar: CD Larache – Campo<br data-start='10799' da
 ta-end='10802' /> Fecha y hora: Viernes 30 de enero de 2026\, 18:00 h</p>
 \n<hr />\n<p><em class='pdf'><a href='documentos/cultura/2026/ACTIVIDAD_FI
 N_DE_SEMANA_29_enero.pdf' target='_blank'>Actividad Fin De Semana 29 Enero
 &gt\;&gt\;</a></em></p>
DTSTART;TZID=Europe/Madrid:20260130T180000
DTEND;TZID=Europe/Madrid:20260130T180000
SUMMARY:FÚTBOL BENJAMÍN: CD MANCHEGO B vs CD MANCHEGO C
URL:https://www.ciudadreal.es/agenda-turismo/83-deporte/20885-futbol-benjam
 in-cd-manchego-b-vs-cd-manchego-c.html
X-ALT-DESC;FMTTYPE=TEXT/HTML:<p>A cargo de: CD Manchego B y CD Manchego C<b
 r data-start='10771' data-end='10774' /> Lugar: CD Larache – Campo<br data
 -start='10799' data-end='10802' /> Fecha y hora: Viernes 30 de enero de 20
 26\, 18:00 h</p>\n<hr />\n<p><em class='pdf'><a href='documentos/cultura/2
 026/ACTIVIDAD_FIN_DE_SEMANA_29_enero.pdf' target='_blank'>Actividad Fin De
  Semana 29 Enero&gt\;&gt\;</a></em></p>
END:VEVENT
BEGIN:VEVENT
UID:20260130T183000CET-3296n3RMfV@https://www.ciudadreal.es/
DTSTAMP:20260424T145406Z
CATEGORIES:Deporte
DESCRIPTION:<p>A cargo de: Globalcaja BM Caserio y BM Ayto. Poblete-Caserio
 <br data-start='11683' data-end='11686' /> Lugar: Pabellón Quijote Arena<b
 r data-start='11715' data-end='11718' /> Fecha y hora: Viernes 30 de enero
  de 2026\, 18:30 h</p>\n<hr />\n<p><em class='pdf'><a href='documentos/cul
 tura/2026/ACTIVIDAD_FIN_DE_SEMANA_29_enero.pdf' target='_blank'>Actividad 
 Fin De Semana 29 Enero&gt\;&gt\;</a></em></p>
DTSTART;TZID=Europe/Madrid:20260130T183000
DTEND;TZID=Europe/Madrid:20260130T183000
SUMMARY:BALONMANO ALEVÍN MASCULINO: GLOBALCAJA BM CASERIO vs BM AYTO. POBLE
 TE-CASERIO
URL:https://www.ciudadreal.es/agenda-turismo/83-deporte/20889-balonmano-ale
 vin-masculino-globalcaja-bm-caserio-vs-bm-ayto-poblete-caserio.html
X-ALT-DESC;FMTTYPE=TEXT/HTML:<p>A cargo de: Globalcaja BM Caserio y BM Ayto
 . Poblete-Caserio<br data-start='11683' data-end='11686' /> Lugar: Pabelló
 n Quijote Arena<br data-start='11715' data-end='11718' /> Fecha y hora: Vi
 ernes 30 de enero de 2026\, 18:30 h</p>\n<hr />\n<p><em class='pdf'><a hre
 f='documentos/cultura/2026/ACTIVIDAD_FIN_DE_SEMANA_29_enero.pdf' target='_
 blank'>Actividad Fin De Semana 29 Enero&gt\;&gt\;</a></em></p>
END:VEVENT
END:VCALENDAR
