BEGIN:VCALENDAR
VERSION:2.0
PRODID:-//https://www.ciudadreal.es//NONSGML kigkonsult.se iCalcreator 2.29
 .29//
CALSCALE:GREGORIAN
METHOD:PUBLISH
UID:3d17e1ac-e47b-416f-8a28-9c335331bc17
X-WR-CALNAME:JCal Pro Calendar
X-WR-CALDESC:Tu calendario de eventos online.
X-WR-TIMEZONE:Europe/Madrid
BEGIN:VTIMEZONE
TZID:Europe/Madrid
BEGIN:STANDARD
TZNAME:CET
DTSTART:20251026T030000
TZOFFSETFROM:+0200
TZOFFSETTO:+0100
RDATE:20261025T030000
END:STANDARD
BEGIN:DAYLIGHT
TZNAME:CEST
DTSTART:20260329T020000
TZOFFSETFROM:+0100
TZOFFSETTO:+0200
RDATE:20270328T020000
END:DAYLIGHT
END:VTIMEZONE
BEGIN:VEVENT
UID:20260103T100000CET-4300EciE2N@https://www.ciudadreal.es/
DTSTAMP:20260423T013415Z
CATEGORIES:Otros
DESCRIPTION:<p>A cargo de: PEÑA OSSOBUCOS DE CIUDAD REAL<br data-start='222
 7' data-end='2230' /> Lugar: CIUDAD DEPORTIVA SUR<br data-start='2257' dat
 a-end='2260' /> Fecha y hora: Sábado 3 de enero de 2026\, 10:00 a 14:00 h<
 /p>\n<hr />\n<p><em class='pdf'><a href='documentos/cultura/2025/ACTIVIDAD
 ES_NAVIDAD_Del_22-dic_al_3-ene.pdf' target='_blank'>Actividades Navidad de
 l 22 de Diciembre 2025 al 03 de Enero 2026&gt\;&gt\;</a></em></p>
DTSTART;TZID=Europe/Madrid:20260103T100000
DTEND;TZID=Europe/Madrid:20260103T140000
SUMMARY:ACTIVIDAD BENÉFICA F7 “NINGÚN NIÑO SIN SU CACHARRO”
URL:https://www.ciudadreal.es/agenda-turismo/93-otros/20817-actividad-benef
 ica-f7-ningun-nino-sin-su-cacharro.html
X-ALT-DESC;FMTTYPE=TEXT/HTML:<p>A cargo de: PEÑA OSSOBUCOS DE CIUDAD REAL<b
 r data-start='2227' data-end='2230' /> Lugar: CIUDAD DEPORTIVA SUR<br data
 -start='2257' data-end='2260' /> Fecha y hora: Sábado 3 de enero de 2026\,
  10:00 a 14:00 h</p>\n<hr />\n<p><em class='pdf'><a href='documentos/cultu
 ra/2025/ACTIVIDADES_NAVIDAD_Del_22-dic_al_3-ene.pdf' target='_blank'>Activ
 idades Navidad del 22 de Diciembre 2025 al 03 de Enero 2026&gt\;&gt\;</a><
 /em></p>
END:VEVENT
END:VCALENDAR
