BEGIN:VCALENDAR
VERSION:2.0
PRODID:-//https://www.ciudadreal.es//NONSGML kigkonsult.se iCalcreator 2.29
 .29//
CALSCALE:GREGORIAN
METHOD:PUBLISH
UID:72a87804-bb3b-4248-bbe1-409a997e1ab3
X-WR-CALNAME:JCal Pro Calendar
X-WR-CALDESC:Tu calendario de eventos online.
X-WR-TIMEZONE:Europe/Madrid
BEGIN:VTIMEZONE
TZID:Europe/Madrid
BEGIN:STANDARD
TZNAME:CET
DTSTART:20251026T030000
TZOFFSETFROM:+0200
TZOFFSETTO:+0100
RDATE:20261025T030000
END:STANDARD
BEGIN:DAYLIGHT
TZNAME:CEST
DTSTART:20260329T020000
TZOFFSETFROM:+0100
TZOFFSETTO:+0200
RDATE:20270328T020000
END:DAYLIGHT
END:VTIMEZONE
BEGIN:VEVENT
UID:20251212T231500CET-5122TtbNKd@https://www.ciudadreal.es/
DTSTAMP:20260423T063246Z
CATEGORIES:Otros
DESCRIPTION:<p data-start='1400' data-end='1545'>A cargo de: Alejandro Revu
 elta<br data-start='1464' data-end='1467' /> Lugar: Antiguo Casino<br data
 -start='1488' data-end='1491' /> Fecha y hora: Viernes 12 de diciembre\, 2
 3:15 - 23:45</p>\n<hr />\n<p><em class='pdf'><a href='documentos/cultura/2
 025/magia_ciudad_real.pdf' target='_blank'>Magia Ciudad Real&gt\;&gt\;</a>
 </em></p>
DTSTART;TZID=Europe/Madrid:20251212T231500
DTEND;TZID=Europe/Madrid:20251212T234500
SUMMARY:NOCHE DE FENÓMENOS MENTALES
URL:https://www.ciudadreal.es/agenda-turismo/93-otros/20539-noche-de-fenome
 nos-mentales.html
X-ALT-DESC;FMTTYPE=TEXT/HTML:<p data-start='1400' data-end='1545'>A cargo d
 e: Alejandro Revuelta<br data-start='1464' data-end='1467' /> Lugar: Antig
 uo Casino<br data-start='1488' data-end='1491' /> Fecha y hora: Viernes 12
  de diciembre\, 23:15 - 23:45</p>\n<hr />\n<p><em class='pdf'><a href='doc
 umentos/cultura/2025/magia_ciudad_real.pdf' target='_blank'>Magia Ciudad R
 eal&gt\;&gt\;</a></em></p>
END:VEVENT
END:VCALENDAR
