BEGIN:VCALENDAR
VERSION:2.0
PRODID:-//https://www.ciudadreal.es//NONSGML kigkonsult.se iCalcreator 2.29
 .29//
CALSCALE:GREGORIAN
METHOD:PUBLISH
UID:c5f0bd8c-faf4-4d20-ad42-63900d9132e6
X-WR-CALNAME:JCal Pro Calendar
X-WR-CALDESC:Tu calendario de eventos online.
X-WR-TIMEZONE:Europe/Madrid
BEGIN:VTIMEZONE
TZID:Europe/Madrid
BEGIN:STANDARD
TZNAME:CET
DTSTART:20251026T030000
TZOFFSETFROM:+0200
TZOFFSETTO:+0100
RDATE:20261025T030000
END:STANDARD
BEGIN:DAYLIGHT
TZNAME:CEST
DTSTART:20260329T020000
TZOFFSETFROM:+0100
TZOFFSETTO:+0200
RDATE:20270328T020000
END:DAYLIGHT
END:VTIMEZONE
BEGIN:VEVENT
UID:20251212T223000CET-1333vSbjJM@https://www.ciudadreal.es/
DTSTAMP:20260423T063203Z
CATEGORIES:Otros
DESCRIPTION:<p>A cargo de: Marcos Waldemar<br data-start='1319' data-end='1
 322' /> Lugar: Antiguo Casino<br data-start='1343' data-end='1346' /> Fech
 a y hora: Viernes 12 de diciembre\, 22:30 - 23:00</p>\n<hr />\n<p><em clas
 s='pdf'><a href='documentos/cultura/2025/magia_ciudad_real.pdf' target='_b
 lank'>Magia Ciudad Real&gt\;&gt\;</a></em></p>
DTSTART;TZID=Europe/Madrid:20251212T223000
DTEND;TZID=Europe/Madrid:20251212T230000
SUMMARY:EXPERIENCIA CLANDESTINA
URL:https://www.ciudadreal.es/agenda-turismo/93-otros/20538-experiencia-cla
 ndestina.html
X-ALT-DESC;FMTTYPE=TEXT/HTML:<p>A cargo de: Marcos Waldemar<br data-start='
 1319' data-end='1322' /> Lugar: Antiguo Casino<br data-start='1343' data-e
 nd='1346' /> Fecha y hora: Viernes 12 de diciembre\, 22:30 - 23:00</p>\n<h
 r />\n<p><em class='pdf'><a href='documentos/cultura/2025/magia_ciudad_rea
 l.pdf' target='_blank'>Magia Ciudad Real&gt\;&gt\;</a></em></p>
END:VEVENT
END:VCALENDAR
