BEGIN:VCALENDAR
VERSION:2.0
PRODID:-//https://www.ciudadreal.es//NONSGML kigkonsult.se iCalcreator 2.29
 .29//
CALSCALE:GREGORIAN
METHOD:PUBLISH
UID:dd0a293c-d7ec-44af-9fa6-fc1ca81a8a31
X-WR-CALNAME:JCal Pro Calendar
X-WR-CALDESC:Tu calendario de eventos online.
X-WR-TIMEZONE:Europe/Madrid
BEGIN:VTIMEZONE
TZID:Europe/Madrid
BEGIN:STANDARD
TZNAME:CET
DTSTART:20251026T030000
TZOFFSETFROM:+0200
TZOFFSETTO:+0100
RDATE:20261025T030000
END:STANDARD
BEGIN:DAYLIGHT
TZNAME:CEST
DTSTART:20260329T020000
TZOFFSETFROM:+0100
TZOFFSETTO:+0200
RDATE:20270328T020000
END:DAYLIGHT
END:VTIMEZONE
BEGIN:VEVENT
UID:20251212T180000CET-6744W73Ajv@https://www.ciudadreal.es/
DTSTAMP:20260423T063254Z
CATEGORIES:Otros
DESCRIPTION:<p>A cargo de: David Navarez<br data-start='896' data-end='899'
  /> Lugar: Plaza del Pilar<br data-start='921' data-end='924' /> Fecha y h
 ora: Viernes 12 de diciembre\, 18:00 - 18:45</p>\n<hr />\n<p><em class='pd
 f'><a href='documentos/cultura/2025/magia_ciudad_real.pdf' target='_blank'
 >Magia Ciudad Real&gt\;&gt\;</a></em></p>
DTSTART;TZID=Europe/Madrid:20251212T180000
DTEND;TZID=Europe/Madrid:20251212T184500
SUMMARY:LA MAGIA DE UN TROTAMUNDOS
URL:https://www.ciudadreal.es/agenda-turismo/93-otros/20535-la-magia-de-un-
 trotamundos.html
X-ALT-DESC;FMTTYPE=TEXT/HTML:<p>A cargo de: David Navarez<br data-start='89
 6' data-end='899' /> Lugar: Plaza del Pilar<br data-start='921' data-end='
 924' /> Fecha y hora: Viernes 12 de diciembre\, 18:00 - 18:45</p>\n<hr />
 \n<p><em class='pdf'><a href='documentos/cultura/2025/magia_ciudad_real.pd
 f' target='_blank'>Magia Ciudad Real&gt\;&gt\;</a></em></p>
END:VEVENT
END:VCALENDAR
