BEGIN:VCALENDAR
VERSION:2.0
PRODID:-//https://www.ciudadreal.es//NONSGML kigkonsult.se iCalcreator 2.29
 .29//
CALSCALE:GREGORIAN
METHOD:PUBLISH
UID:20aeac66-9858-467d-992d-dc4ece5e8190
X-WR-CALNAME:JCal Pro Calendar
X-WR-CALDESC:Tu calendario de eventos online.
X-WR-TIMEZONE:Europe/Madrid
BEGIN:VTIMEZONE
TZID:Europe/Madrid
BEGIN:STANDARD
TZNAME:CET
DTSTART:20251026T030000
TZOFFSETFROM:+0200
TZOFFSETTO:+0100
RDATE:20261025T030000
END:STANDARD
BEGIN:DAYLIGHT
TZNAME:CEST
DTSTART:20260329T020000
TZOFFSETFROM:+0100
TZOFFSETTO:+0200
RDATE:20270328T020000
END:DAYLIGHT
END:VTIMEZONE
BEGIN:VEVENT
UID:20251214T120000CET-9694ih4OAR@https://www.ciudadreal.es/
DTSTAMP:20260423T063116Z
CATEGORIES:Otros
DESCRIPTION:<p>A cargo de: El Insólito Jota<br data-start='755' data-end='7
 58' /> Lugar: Antiguo Casino<br data-start='779' data-end='782' /> Fecha y
  hora: Domingo 14 de diciembre\, 12:00 - 12:45</p>\n<hr />\n<p><em class='
 pdf'><a href='documentos/cultura/2025/magia_ciudad_real.pdf' target='_blan
 k'>Magia Ciudad Real&gt\;&gt\;</a></em></p>
DTSTART;TZID=Europe/Madrid:20251214T120000
DTEND;TZID=Europe/Madrid:20251214T124500
SUMMARY:GLOBOFLEXIA PARA TODOS
URL:https://www.ciudadreal.es/agenda-turismo/93-otros/20534-globoflexia-par
 a-todos.html
X-ALT-DESC;FMTTYPE=TEXT/HTML:<p>A cargo de: El Insólito Jota<br data-start=
 '755' data-end='758' /> Lugar: Antiguo Casino<br data-start='779' data-end
 ='782' /> Fecha y hora: Domingo 14 de diciembre\, 12:00 - 12:45</p>\n<hr /
 >\n<p><em class='pdf'><a href='documentos/cultura/2025/magia_ciudad_real.p
 df' target='_blank'>Magia Ciudad Real&gt\;&gt\;</a></em></p>
END:VEVENT
END:VCALENDAR
