BEGIN:VCALENDAR
VERSION:2.0
PRODID:-//https://www.ciudadreal.es//NONSGML kigkonsult.se iCalcreator 2.29
 .29//
CALSCALE:GREGORIAN
METHOD:PUBLISH
UID:81cfd013-2a8a-46f3-a837-27a2f4be6105
X-WR-CALNAME:JCal Pro Calendar
X-WR-CALDESC:Tu calendario de eventos online.
X-WR-TIMEZONE:Europe/Madrid
BEGIN:VTIMEZONE
TZID:Europe/Madrid
BEGIN:STANDARD
TZNAME:CET
DTSTART:20251026T030000
TZOFFSETFROM:+0200
TZOFFSETTO:+0100
RDATE:20261025T030000
END:STANDARD
BEGIN:DAYLIGHT
TZNAME:CEST
DTSTART:20260329T020000
TZOFFSETFROM:+0100
TZOFFSETTO:+0200
RDATE:20270328T020000
END:DAYLIGHT
END:VTIMEZONE
BEGIN:VEVENT
UID:20251214T130000CET-7653ZuNi8k@https://www.ciudadreal.es/
DTSTAMP:20260423T061421Z
CATEGORIES:Otros
DESCRIPTION:<p>A cargo de: Dani O'Magic<br data-start='609' data-end='612' 
 /> Lugar: Templete de El Prado<br data-start='639' data-end='642' /> Fecha
  y hora: Domingo 14 de diciembre\, 13:00 - 13:45</p>\n<hr />\n<p><em class
 ='pdf'><a href='documentos/cultura/2025/magia_ciudad_real.pdf' target='_bl
 ank'>Magia Ciudad Real&gt\;&gt\;</a></em></p>
DTSTART;TZID=Europe/Madrid:20251214T130000
DTEND;TZID=Europe/Madrid:20251214T134500
SUMMARY:O'MAGICADABRA
URL:https://www.ciudadreal.es/agenda-turismo/93-otros/20533-o-magicadabra.h
 tml
X-ALT-DESC;FMTTYPE=TEXT/HTML:<p>A cargo de: Dani O'Magic<br data-start='609
 ' data-end='612' /> Lugar: Templete de El Prado<br data-start='639' data-e
 nd='642' /> Fecha y hora: Domingo 14 de diciembre\, 13:00 - 13:45</p>\n<hr
  />\n<p><em class='pdf'><a href='documentos/cultura/2025/magia_ciudad_real
 .pdf' target='_blank'>Magia Ciudad Real&gt\;&gt\;</a></em></p>
END:VEVENT
END:VCALENDAR
