BEGIN:VCALENDAR
VERSION:2.0
PRODID:-//https://www.ciudadreal.es//NONSGML kigkonsult.se iCalcreator 2.29
 .29//
CALSCALE:GREGORIAN
METHOD:PUBLISH
UID:bc81132f-3e16-4374-b072-d71d0a6578d3
X-WR-CALNAME:JCal Pro Calendar
X-WR-CALDESC:Tu calendario de eventos online.
X-WR-TIMEZONE:Europe/Madrid
BEGIN:VTIMEZONE
TZID:Europe/Madrid
BEGIN:STANDARD
TZNAME:CET
DTSTART:20251026T030000
TZOFFSETFROM:+0200
TZOFFSETTO:+0100
RDATE:20261025T030000
END:STANDARD
BEGIN:DAYLIGHT
TZNAME:CEST
DTSTART:20260329T020000
TZOFFSETFROM:+0100
TZOFFSETTO:+0200
RDATE:20270328T020000
END:DAYLIGHT
END:VTIMEZONE
BEGIN:VEVENT
UID:20251211T103000CET-32908Usiox@https://www.ciudadreal.es/
DTSTAMP:20260423T063128Z
CATEGORIES:Otros
DESCRIPTION:<p>A cargo de: Dani O'Magic<br data-start='339' data-end='342' 
 /> Lugar: Antiguo Casino<br data-start='363' data-end='366' /> Fecha y hor
 a: Jueves 11 de diciembre\, 10:30 - 12:00</p>\n<hr />\n<p><em class='pdf'>
 <a href='documentos/cultura/2025/magia_ciudad_real.pdf' target='_blank'>Ma
 gia Ciudad Real&gt\;&gt\;</a></em></p>
DTSTART;TZID=Europe/Madrid:20251211T103000
DTEND;TZID=Europe/Madrid:20251211T120000
SUMMARY:GRAN TALLER DE MAGIA
URL:https://www.ciudadreal.es/agenda-turismo/93-otros/20531-gran-taller-de-
 magia.html
X-ALT-DESC;FMTTYPE=TEXT/HTML:<p>A cargo de: Dani O'Magic<br data-start='339
 ' data-end='342' /> Lugar: Antiguo Casino<br data-start='363' data-end='36
 6' /> Fecha y hora: Jueves 11 de diciembre\, 10:30 - 12:00</p>\n<hr />\n<p
 ><em class='pdf'><a href='documentos/cultura/2025/magia_ciudad_real.pdf' t
 arget='_blank'>Magia Ciudad Real&gt\;&gt\;</a></em></p>
END:VEVENT
END:VCALENDAR
