BEGIN:VCALENDAR
VERSION:2.0
PRODID:-//https://www.ciudadreal.es//NONSGML kigkonsult.se iCalcreator 2.29
 .29//
CALSCALE:GREGORIAN
METHOD:PUBLISH
UID:4fd44e3d-97af-4b05-89c0-474739fe37d4
X-WR-CALNAME:JCal Pro Calendar
X-WR-CALDESC:Tu calendario de eventos online.
X-WR-TIMEZONE:Europe/Madrid
BEGIN:VTIMEZONE
TZID:Europe/Madrid
BEGIN:STANDARD
TZNAME:CET
DTSTART:20251026T030000
TZOFFSETFROM:+0200
TZOFFSETTO:+0100
RDATE:20261025T030000
END:STANDARD
BEGIN:DAYLIGHT
TZNAME:CEST
DTSTART:20260329T020000
TZOFFSETFROM:+0100
TZOFFSETTO:+0200
RDATE:20270328T020000
END:DAYLIGHT
END:VTIMEZONE
BEGIN:VEVENT
UID:20251211T103000CET-6343se4GDO@https://www.ciudadreal.es/
DTSTAMP:20260423T063056Z
CATEGORIES:Otros
DESCRIPTION:<p>A cargo de: Venchi &amp\; El Insólito Jota<br data-start='17
 9' data-end='182' /> Lugar: Residencia de Mayores Santa Teresa Jornet<br d
 ata-start='230' data-end='233' /> Fecha y hora: Jueves 11 de diciembre\, 1
 0:30 - 12:00</p>\n<hr />\n<p><em class='pdf'><a href='documentos/cultura/2
 025/magia_ciudad_real.pdf' target='_blank'>Magia Ciudad Real&gt\;&gt\;</a>
 </em></p>
DTSTART;TZID=Europe/Madrid:20251211T103000
DTEND;TZID=Europe/Madrid:20251211T120000
SUMMARY:MAGIA SOLIDARIA
URL:https://www.ciudadreal.es/agenda-turismo/93-otros/20530-magia-solidaria
 .html
X-ALT-DESC;FMTTYPE=TEXT/HTML:<p>A cargo de: Venchi &amp\; El Insólito Jota<
 br data-start='179' data-end='182' /> Lugar: Residencia de Mayores Santa T
 eresa Jornet<br data-start='230' data-end='233' /> Fecha y hora: Jueves 11
  de diciembre\, 10:30 - 12:00</p>\n<hr />\n<p><em class='pdf'><a href='doc
 umentos/cultura/2025/magia_ciudad_real.pdf' target='_blank'>Magia Ciudad R
 eal&gt\;&gt\;</a></em></p>
END:VEVENT
END:VCALENDAR
