BEGIN:VCALENDAR
VERSION:2.0
PRODID:-//https://www.ciudadreal.es//NONSGML kigkonsult.se iCalcreator 2.29
 .29//
CALSCALE:GREGORIAN
METHOD:PUBLISH
UID:594f1763-ce49-4956-a962-ec9396ae3b59
X-WR-CALNAME:JCal Pro Calendar
X-WR-CALDESC:Tu calendario de eventos online.
X-WR-TIMEZONE:Europe/Madrid
BEGIN:VTIMEZONE
TZID:Europe/Madrid
BEGIN:STANDARD
TZNAME:CET
DTSTART:20251026T030000
TZOFFSETFROM:+0200
TZOFFSETTO:+0100
RDATE:20261025T030000
END:STANDARD
BEGIN:DAYLIGHT
TZNAME:CEST
DTSTART:20260329T020000
TZOFFSETFROM:+0100
TZOFFSETTO:+0200
RDATE:20270328T020000
END:DAYLIGHT
END:VTIMEZONE
BEGIN:VEVENT
UID:20251119T060000CET-3082Uoujnv@https://www.ciudadreal.es/
DTSTAMP:20260425T194644Z
CATEGORIES:Otros
DESCRIPTION:<p>A cargo de: Universidad Popular de Ciudad Real<br data-start
 ='691' data-end='694' /> Lugar: Salida desde Plaza de San Francisco – Ciud
 ad Real<br data-start='750' data-end='753' /> Fecha y hora: 19 de noviembr
 e de 2025 (horario a determinar)<br data-start='813' data-end='816' /> Obs
 ervación: Actividad gratuita dirigida a mayores de 18 años. Transporte no 
 adaptado a personas con movilidad reducida.</p>\n<hr />\n<p><em class='pdf
 '><a href='/images/2025/Septiembre/Popular/Programacion_UPCR_primer cuatri
 mestre_25-26.pdf' target='_blank'>Programación UPCR primer cuatrimestre 25
 -26&gt\;&gt\;</a></em></p>
DTSTART;TZID=Europe/Madrid:20251119T060000
DTEND;TZID=Europe/Madrid:20251119T060000
SUMMARY:VIAJE AL GEOPARQUE VOLCÁNICO DE ALCOLEA DE CALATRAVA (VOLCÁN Y LAGU
 NA DE PEÑARROYA)
URL:https://www.ciudadreal.es/agenda-turismo/93-otros/20526-viaje-al-geopar
 que-volcanico-de-alcolea-de-calatrava-volcan-y-laguna-de-penarroya.html
X-ALT-DESC;FMTTYPE=TEXT/HTML:<p>A cargo de: Universidad Popular de Ciudad R
 eal<br data-start='691' data-end='694' /> Lugar: Salida desde Plaza de San
  Francisco – Ciudad Real<br data-start='750' data-end='753' /> Fecha y hor
 a: 19 de noviembre de 2025 (horario a determinar)<br data-start='813' data
 -end='816' /> Observación: Actividad gratuita dirigida a mayores de 18 año
 s. Transporte no adaptado a personas con movilidad reducida.</p>\n<hr />\n
 <p><em class='pdf'><a href='/images/2025/Septiembre/Popular/Programacion_U
 PCR_primer cuatrimestre_25-26.pdf' target='_blank'>Programación UPCR prime
 r cuatrimestre 25-26&gt\;&gt\;</a></em></p>
END:VEVENT
END:VCALENDAR
