BEGIN:VCALENDAR
VERSION:2.0
PRODID:-//https://www.ciudadreal.es//NONSGML kigkonsult.se iCalcreator 2.29
 .29//
CALSCALE:GREGORIAN
METHOD:PUBLISH
UID:eef72212-1b9c-4caa-82c1-3bcb43846f2f
X-WR-CALNAME:JCal Pro Calendar
X-WR-CALDESC:Tu calendario de eventos online.
X-WR-TIMEZONE:Europe/Madrid
BEGIN:VTIMEZONE
TZID:Europe/Madrid
BEGIN:STANDARD
TZNAME:CET
DTSTART:20251026T030000
TZOFFSETFROM:+0200
TZOFFSETTO:+0100
RDATE:20261025T030000
END:STANDARD
BEGIN:DAYLIGHT
TZNAME:CEST
DTSTART:20260329T020000
TZOFFSETFROM:+0100
TZOFFSETTO:+0200
RDATE:20270328T020000
END:DAYLIGHT
END:VTIMEZONE
BEGIN:VEVENT
UID:20251222T090000CET-0235R761pg@https://www.ciudadreal.es/
DTSTAMP:20260423T031750Z
CATEGORIES:Fiestas y Tradiciones
DESCRIPTION:<p>A cargo de: CIUDAD REAL F.C.<br data-start='292' data-end='2
 95' /> Lugar: POLIDEPORTIVO REY JUAN CARLOS I – CAMPOS 2\, 3 Y 4<br data-s
 tart='351' data-end='354' /> Fecha y hora: Lunes 22 de diciembre de 2025\,
  9:00 a 14:00 h (también: 23\, 26 y 27-dic\, mismo horario)</p>\n<hr />\n<
 p><em class='pdf'><a href='documentos/cultura/2025/ACTIVIDADES_NAVIDAD_Del
 _22-dic_al_3-ene.pdf' target='_blank'>Actividades Navidad del 22 de Diciem
 bre 2025 al 03 de Enero 2026&gt\;&gt\;</a></em></p>
DTSTART;TZID=Europe/Madrid:20251222T090000
DTEND;TZID=Europe/Madrid:20251222T140000
SUMMARY:CAMPUS DE TECNIFICACIÓN DE NAVIDAD
URL:https://www.ciudadreal.es/agenda-turismo/85-fiestas-y-tradiciones/20807
 -campus-de-tecnificacion-de-navidad.html
X-ALT-DESC;FMTTYPE=TEXT/HTML:<p>A cargo de: CIUDAD REAL F.C.<br data-start=
 '292' data-end='295' /> Lugar: POLIDEPORTIVO REY JUAN CARLOS I – CAMPOS 2\
 , 3 Y 4<br data-start='351' data-end='354' /> Fecha y hora: Lunes 22 de di
 ciembre de 2025\, 9:00 a 14:00 h (también: 23\, 26 y 27-dic\, mismo horari
 o)</p>\n<hr />\n<p><em class='pdf'><a href='documentos/cultura/2025/ACTIVI
 DADES_NAVIDAD_Del_22-dic_al_3-ene.pdf' target='_blank'>Actividades Navidad
  del 22 de Diciembre 2025 al 03 de Enero 2026&gt\;&gt\;</a></em></p>
END:VEVENT
END:VCALENDAR
