BEGIN:VCALENDAR
VERSION:2.0
PRODID:-//https://www.ciudadreal.es//NONSGML kigkonsult.se iCalcreator 2.29
 .29//
CALSCALE:GREGORIAN
METHOD:PUBLISH
UID:afb77275-67a4-429d-91fd-3d8f30c05034
X-WR-CALNAME:JCal Pro Calendar
X-WR-CALDESC:Tu calendario de eventos online.
X-WR-TIMEZONE:Europe/Madrid
BEGIN:VTIMEZONE
TZID:Europe/Madrid
BEGIN:STANDARD
TZNAME:CET
DTSTART:20251026T030000
TZOFFSETFROM:+0200
TZOFFSETTO:+0100
RDATE:20261025T030000
END:STANDARD
BEGIN:DAYLIGHT
TZNAME:CEST
DTSTART:20260329T020000
TZOFFSETFROM:+0100
TZOFFSETTO:+0200
RDATE:20270328T020000
END:DAYLIGHT
END:VTIMEZONE
BEGIN:VEVENT
UID:20251222T090000CET-9407VVs2PN@https://www.ciudadreal.es/
DTSTAMP:20260423T031616Z
CATEGORIES:Fiestas y Tradiciones
DESCRIPTION:<p>A cargo de: CLUB BMNO CASERÍO CIUDAD REAL<br data-start='65'
  data-end='68' /> Lugar: PABELLÓN REY FELIPE VI<br data-start='97' data-en
 d='100' /> Fecha y hora: Lunes 22 de diciembre de 2025\, 9:00 a 14:00 h (t
 ambién: 23\, 26\, 27\, 29 y 30-dic / 2 y 3-ene\, mismo horario)</p>\n<hr /
 >\n<p><em class='pdf'><a href='documentos/cultura/2025/ACTIVIDADES_NAVIDAD
 _Del_22-dic_al_3-ene.pdf' target='_blank'>Actividades Navidad del 22 de Di
 ciembre 2025 al 03 de Enero 2026&gt\;&gt\;</a></em></p>
DTSTART;TZID=Europe/Madrid:20251222T090000
DTEND;TZID=Europe/Madrid:20251222T140000
SUMMARY:CAMPUS DE NAVIDAD
URL:https://www.ciudadreal.es/agenda-turismo/85-fiestas-y-tradiciones/20806
 -campus-de-navidad.html
X-ALT-DESC;FMTTYPE=TEXT/HTML:<p>A cargo de: CLUB BMNO CASERÍO CIUDAD REAL<b
 r data-start='65' data-end='68' /> Lugar: PABELLÓN REY FELIPE VI<br data-s
 tart='97' data-end='100' /> Fecha y hora: Lunes 22 de diciembre de 2025\, 
 9:00 a 14:00 h (también: 23\, 26\, 27\, 29 y 30-dic / 2 y 3-ene\, mismo ho
 rario)</p>\n<hr />\n<p><em class='pdf'><a href='documentos/cultura/2025/AC
 TIVIDADES_NAVIDAD_Del_22-dic_al_3-ene.pdf' target='_blank'>Actividades Nav
 idad del 22 de Diciembre 2025 al 03 de Enero 2026&gt\;&gt\;</a></em></p>
END:VEVENT
END:VCALENDAR
