BEGIN:VCALENDAR
VERSION:2.0
PRODID:-//https://www.ciudadreal.es//NONSGML kigkonsult.se iCalcreator 2.29
 .29//
CALSCALE:GREGORIAN
METHOD:PUBLISH
UID:d5a16e66-7291-4464-814a-098d2ee17aa7
X-WR-CALNAME:JCal Pro Calendar
X-WR-CALDESC:Tu calendario de eventos online.
X-WR-TIMEZONE:Europe/Madrid
BEGIN:VTIMEZONE
TZID:Europe/Madrid
BEGIN:STANDARD
TZNAME:CET
DTSTART:20251026T030000
TZOFFSETFROM:+0200
TZOFFSETTO:+0100
RDATE:20261025T030000
END:STANDARD
BEGIN:DAYLIGHT
TZNAME:CEST
DTSTART:20260329T020000
TZOFFSETFROM:+0100
TZOFFSETTO:+0200
RDATE:20270328T020000
END:DAYLIGHT
END:VTIMEZONE
BEGIN:VEVENT
UID:20260131T110000CET-4087HItbUs@https://www.ciudadreal.es/
DTSTAMP:20260422T183552Z
CATEGORIES:Deporte
DESCRIPTION:<p>A cargo de: BMNO Pio XII y Cab. Villarrobledo<br data-start=
 '12109' data-end='12112' /> Lugar: Pabellón Quijote Arena<br data-start='1
 2141' data-end='12144' /> Fecha y hora: Sábado 31 de enero de 2026\, 11:00
  h</p>\n<hr />\n<p><em class='pdf'><a href='documentos/cultura/2026/ACTIVI
 DAD_FIN_DE_SEMANA_29_enero.pdf' target='_blank'>Actividad Fin De Semana 29
  Enero&gt\;&gt\;</a></em></p>
DTSTART;TZID=Europe/Madrid:20260131T110000
DTEND;TZID=Europe/Madrid:20260131T110000
SUMMARY:BALONMANO CADETE REGIONAL MASCULINO: BMNO PIO XII vs CAB. VILLARROB
 LEDO
URL:https://www.ciudadreal.es/agenda-turismo/83-deporte/20891-balonmano-cad
 ete-regional-masculino-bmno-pio-xii-vs-cab-villarrobledo.html
X-ALT-DESC;FMTTYPE=TEXT/HTML:<p>A cargo de: BMNO Pio XII y Cab. Villarroble
 do<br data-start='12109' data-end='12112' /> Lugar: Pabellón Quijote Arena
 <br data-start='12141' data-end='12144' /> Fecha y hora: Sábado 31 de ener
 o de 2026\, 11:00 h</p>\n<hr />\n<p><em class='pdf'><a href='documentos/cu
 ltura/2026/ACTIVIDAD_FIN_DE_SEMANA_29_enero.pdf' target='_blank'>Actividad
  Fin De Semana 29 Enero&gt\;&gt\;</a></em></p>
END:VEVENT
END:VCALENDAR
