BEGIN:VCALENDAR
VERSION:2.0
PRODID:-//https://www.ciudadreal.es//NONSGML kigkonsult.se iCalcreator 2.29
 .29//
CALSCALE:GREGORIAN
METHOD:PUBLISH
UID:7e80ec95-8d73-4e2c-9f6c-552903cde17b
X-WR-CALNAME:JCal Pro Calendar
X-WR-CALDESC:Tu calendario de eventos online.
X-WR-TIMEZONE:Europe/Madrid
BEGIN:VTIMEZONE
TZID:Europe/Madrid
BEGIN:STANDARD
TZNAME:CET
DTSTART:20251026T030000
TZOFFSETFROM:+0200
TZOFFSETTO:+0100
RDATE:20261025T030000
END:STANDARD
BEGIN:DAYLIGHT
TZNAME:CEST
DTSTART:20260329T020000
TZOFFSETFROM:+0100
TZOFFSETTO:+0200
RDATE:20270328T020000
END:DAYLIGHT
END:VTIMEZONE
BEGIN:VEVENT
UID:20260131T100000CET-2104mud7Uw@https://www.ciudadreal.es/
DTSTAMP:20260422T183316Z
CATEGORIES:Deporte
DESCRIPTION:<p>A cargo de: BM Caserio Academia 2015 y ADC Catedra 70 B<br d
 ata-start='11902' data-end='11905' /> Lugar: Pabellón Quijote Arena<br dat
 a-start='11934' data-end='11937' /> Fecha y hora: Sábado 31 de enero de 20
 26\, 10:00 h</p>\n<hr />\n<p><em class='pdf'><a href='documentos/cultura/2
 026/ACTIVIDAD_FIN_DE_SEMANA_29_enero.pdf' target='_blank'>Actividad Fin De
  Semana 29 Enero&gt\;&gt\;</a></em></p>
DTSTART;TZID=Europe/Madrid:20260131T100000
DTEND;TZID=Europe/Madrid:20260131T100000
SUMMARY:BALONMANO ALEVÍN MASCULINO: BM CASERIO ACADEMIA 2015 vs ADC CATEDRA
  70 B
URL:https://www.ciudadreal.es/agenda-turismo/83-deporte/20890-balonmano-ale
 vin-masculino-bm-caserio-academia-2015-vs-adc-catedra-70-b.html
X-ALT-DESC;FMTTYPE=TEXT/HTML:<p>A cargo de: BM Caserio Academia 2015 y ADC 
 Catedra 70 B<br data-start='11902' data-end='11905' /> Lugar: Pabellón Qui
 jote Arena<br data-start='11934' data-end='11937' /> Fecha y hora: Sábado 
 31 de enero de 2026\, 10:00 h</p>\n<hr />\n<p><em class='pdf'><a href='doc
 umentos/cultura/2026/ACTIVIDAD_FIN_DE_SEMANA_29_enero.pdf' target='_blank'
 >Actividad Fin De Semana 29 Enero&gt\;&gt\;</a></em></p>
END:VEVENT
END:VCALENDAR
