BEGIN:VCALENDAR
VERSION:2.0
PRODID:-//https://www.ciudadreal.es//NONSGML kigkonsult.se iCalcreator 2.29
 .29//
CALSCALE:GREGORIAN
METHOD:PUBLISH
UID:629e59e4-f75e-47b7-8ed3-ffad8a375a7e
X-WR-CALNAME:JCal Pro Calendar
X-WR-CALDESC:Tu calendario de eventos online.
X-WR-TIMEZONE:Europe/Madrid
BEGIN:VTIMEZONE
TZID:Europe/Madrid
BEGIN:STANDARD
TZNAME:CET
DTSTART:20251026T030000
TZOFFSETFROM:+0200
TZOFFSETTO:+0100
RDATE:20261025T030000
END:STANDARD
BEGIN:DAYLIGHT
TZNAME:CEST
DTSTART:20260329T020000
TZOFFSETFROM:+0100
TZOFFSETTO:+0200
RDATE:20270328T020000
END:DAYLIGHT
END:VTIMEZONE
BEGIN:VEVENT
UID:20260131T124500CET-3451MUSltz@https://www.ciudadreal.es/
DTSTAMP:20260422T183654Z
CATEGORIES:Deporte
DESCRIPTION:<p>A cargo de: CD Manchego Cadete Ronco y C.D. Ciudad Real FC A
 marillo<br data-start='11459' data-end='11462' /> Lugar: CD Larache – Camp
 o<br data-start='11487' data-end='11490' /> Fecha y hora: Sábado 31 de ene
 ro de 2026\, 12:45 h</p>\n<hr />\n<p><em class='pdf'><a href='documentos/c
 ultura/2026/ACTIVIDAD_FIN_DE_SEMANA_29_enero.pdf' target='_blank'>Activida
 d Fin De Semana 29 Enero&gt\;&gt\;</a></em></p>
DTSTART;TZID=Europe/Madrid:20260131T124500
DTEND;TZID=Europe/Madrid:20260131T124500
SUMMARY:FÚTBOL CADETE MASCULINO: CD MANCHEGO CADETE RONCO vs C.D. CIUDAD RE
 AL FC AMARILLO
URL:https://www.ciudadreal.es/agenda-turismo/83-deporte/20888-futbol-cadete
 -masculino-cd-manchego-cadete-ronco-vs-c-d-ciudad-real-fc-amarillo.html
X-ALT-DESC;FMTTYPE=TEXT/HTML:<p>A cargo de: CD Manchego Cadete Ronco y C.D.
  Ciudad Real FC Amarillo<br data-start='11459' data-end='11462' /> Lugar: 
 CD Larache – Campo<br data-start='11487' data-end='11490' /> Fecha y hora:
  Sábado 31 de enero de 2026\, 12:45 h</p>\n<hr />\n<p><em class='pdf'><a h
 ref='documentos/cultura/2026/ACTIVIDAD_FIN_DE_SEMANA_29_enero.pdf' target=
 '_blank'>Actividad Fin De Semana 29 Enero&gt\;&gt\;</a></em></p>
END:VEVENT
END:VCALENDAR
