BEGIN:VCALENDAR
VERSION:2.0
PRODID:-//https://www.ciudadreal.es//NONSGML kigkonsult.se iCalcreator 2.29
 .29//
CALSCALE:GREGORIAN
METHOD:PUBLISH
UID:86a929a5-cf38-40a0-a63d-7dc6630f899d
X-WR-CALNAME:JCal Pro Calendar
X-WR-CALDESC:Tu calendario de eventos online.
X-WR-TIMEZONE:Europe/Madrid
BEGIN:VTIMEZONE
TZID:Europe/Madrid
BEGIN:STANDARD
TZNAME:CET
DTSTART:20251026T030000
TZOFFSETFROM:+0200
TZOFFSETTO:+0100
RDATE:20261025T030000
END:STANDARD
BEGIN:DAYLIGHT
TZNAME:CEST
DTSTART:20260329T020000
TZOFFSETFROM:+0100
TZOFFSETTO:+0200
RDATE:20270328T020000
END:DAYLIGHT
END:VTIMEZONE
BEGIN:VEVENT
UID:20260131T110000CET-1235nDeGKj@https://www.ciudadreal.es/
DTSTAMP:20260422T183817Z
CATEGORIES:Deporte
DESCRIPTION:<p>A cargo de: CD Manchego Lumbreras y C.D. Ciudad Real FC Blan
 co<br data-start='11224' data-end='11227' /> Lugar: CD Larache – Campo<br 
 data-start='11252' data-end='11255' /> Fecha y hora: Sábado 31 de enero de
  2026\, 11:00 h</p>\n<hr />\n<p><em class='pdf'><a href='documentos/cultur
 a/2026/ACTIVIDAD_FIN_DE_SEMANA_29_enero.pdf' target='_blank'>Actividad Fin
  De Semana 29 Enero&gt\;&gt\;</a></em></p>
DTSTART;TZID=Europe/Madrid:20260131T110000
DTEND;TZID=Europe/Madrid:20260131T110000
SUMMARY:FÚTBOL CADETE MASCULINO: CD MANCHEGO LUMBRERAS vs C.D. CIUDAD REAL 
 FC BLANCO
URL:https://www.ciudadreal.es/agenda-turismo/83-deporte/20887-futbol-cadete
 -masculino-cd-manchego-lumbreras-vs-c-d-ciudad-real-fc-blanco.html
X-ALT-DESC;FMTTYPE=TEXT/HTML:<p>A cargo de: CD Manchego Lumbreras y C.D. Ci
 udad Real FC Blanco<br data-start='11224' data-end='11227' /> Lugar: CD La
 rache – Campo<br data-start='11252' data-end='11255' /> Fecha y hora: Sába
 do 31 de enero de 2026\, 11:00 h</p>\n<hr />\n<p><em class='pdf'><a href='
 documentos/cultura/2026/ACTIVIDAD_FIN_DE_SEMANA_29_enero.pdf' target='_bla
 nk'>Actividad Fin De Semana 29 Enero&gt\;&gt\;</a></em></p>
END:VEVENT
END:VCALENDAR
