BEGIN:VCALENDAR
VERSION:2.0
PRODID:-//https://www.ciudadreal.es//NONSGML kigkonsult.se iCalcreator 2.29
 .29//
CALSCALE:GREGORIAN
METHOD:PUBLISH
UID:ca9ca21d-71e7-4d86-b0f0-ccbfe9e9fcb3
X-WR-CALNAME:JCal Pro Calendar
X-WR-CALDESC:Tu calendario de eventos online.
X-WR-TIMEZONE:Europe/Madrid
BEGIN:VTIMEZONE
TZID:Europe/Madrid
BEGIN:STANDARD
TZNAME:CET
DTSTART:20251026T030000
TZOFFSETFROM:+0200
TZOFFSETTO:+0100
RDATE:20261025T030000
END:STANDARD
BEGIN:DAYLIGHT
TZNAME:CEST
DTSTART:20260329T020000
TZOFFSETFROM:+0100
TZOFFSETTO:+0200
RDATE:20270328T020000
END:DAYLIGHT
END:VTIMEZONE
BEGIN:VEVENT
UID:20260131T093000CET-9478Vx6AT3@https://www.ciudadreal.es/
DTSTAMP:20260422T183631Z
CATEGORIES:Deporte
DESCRIPTION:<p>A cargo de: C.D. Ciudad Real FC Morado y CD Manchego Guiller
 mo<br data-start='10999' data-end='11002' /> Lugar: CD Larache – Campo<br 
 data-start='11027' data-end='11030' /> Fecha y hora: Sábado 31 de enero de
  2026\, 09:30 h</p>\n<hr />\n<p><em class='pdf'><a href='documentos/cultur
 a/2026/ACTIVIDAD_FIN_DE_SEMANA_29_enero.pdf' target='_blank'>Actividad Fin
  De Semana 29 Enero&gt\;&gt\;</a></em></p>
DTSTART;TZID=Europe/Madrid:20260131T093000
DTEND;TZID=Europe/Madrid:20260131T093000
SUMMARY:FÚTBOL INFANTIL MASCULINO: C.D. CIUDAD REAL FC MORADO vs CD MANCHEG
 O GUILLERMO
URL:https://www.ciudadreal.es/agenda-turismo/83-deporte/20886-futbol-infant
 il-masculino-c-d-ciudad-real-fc-morado-vs-cd-manchego-guillermo.html
X-ALT-DESC;FMTTYPE=TEXT/HTML:<p>A cargo de: C.D. Ciudad Real FC Morado y CD
  Manchego Guillermo<br data-start='10999' data-end='11002' /> Lugar: CD La
 rache – Campo<br data-start='11027' data-end='11030' /> Fecha y hora: Sába
 do 31 de enero de 2026\, 09:30 h</p>\n<hr />\n<p><em class='pdf'><a href='
 documentos/cultura/2026/ACTIVIDAD_FIN_DE_SEMANA_29_enero.pdf' target='_bla
 nk'>Actividad Fin De Semana 29 Enero&gt\;&gt\;</a></em></p>
END:VEVENT
END:VCALENDAR
