BEGIN:VCALENDAR
VERSION:2.0
PRODID:-//https://www.ciudadreal.es//NONSGML kigkonsult.se iCalcreator 2.29
 .29//
CALSCALE:GREGORIAN
METHOD:PUBLISH
UID:de1923e4-de55-48b5-94d9-417c0f75d4ef
X-WR-CALNAME:JCal Pro Calendar
X-WR-CALDESC:Tu calendario de eventos online.
X-WR-TIMEZONE:Europe/Madrid
BEGIN:VTIMEZONE
TZID:Europe/Madrid
BEGIN:STANDARD
TZNAME:CET
DTSTART:20251026T030000
TZOFFSETFROM:+0200
TZOFFSETTO:+0100
RDATE:20261025T030000
END:STANDARD
BEGIN:DAYLIGHT
TZNAME:CEST
DTSTART:20260329T020000
TZOFFSETFROM:+0100
TZOFFSETTO:+0200
RDATE:20270328T020000
END:DAYLIGHT
END:VTIMEZONE
BEGIN:VEVENT
UID:20260130T180000CET-6826ifFvCJ@https://www.ciudadreal.es/
DTSTAMP:20260422T183242Z
CATEGORIES:Deporte
DESCRIPTION:<p>A cargo de: CD Manchego B y CD Manchego C<br data-start='107
 71' data-end='10774' /> Lugar: CD Larache – Campo<br data-start='10799' da
 ta-end='10802' /> Fecha y hora: Viernes 30 de enero de 2026\, 18:00 h</p>
 \n<hr />\n<p><em class='pdf'><a href='documentos/cultura/2026/ACTIVIDAD_FI
 N_DE_SEMANA_29_enero.pdf' target='_blank'>Actividad Fin De Semana 29 Enero
 &gt\;&gt\;</a></em></p>
DTSTART;TZID=Europe/Madrid:20260130T180000
DTEND;TZID=Europe/Madrid:20260130T180000
SUMMARY:FÚTBOL BENJAMÍN: CD MANCHEGO B vs CD MANCHEGO C
URL:https://www.ciudadreal.es/agenda-turismo/83-deporte/20885-futbol-benjam
 in-cd-manchego-b-vs-cd-manchego-c.html
X-ALT-DESC;FMTTYPE=TEXT/HTML:<p>A cargo de: CD Manchego B y CD Manchego C<b
 r data-start='10771' data-end='10774' /> Lugar: CD Larache – Campo<br data
 -start='10799' data-end='10802' /> Fecha y hora: Viernes 30 de enero de 20
 26\, 18:00 h</p>\n<hr />\n<p><em class='pdf'><a href='documentos/cultura/2
 026/ACTIVIDAD_FIN_DE_SEMANA_29_enero.pdf' target='_blank'>Actividad Fin De
  Semana 29 Enero&gt\;&gt\;</a></em></p>
END:VEVENT
END:VCALENDAR
