BEGIN:VCALENDAR
VERSION:2.0
PRODID:-//https://www.ciudadreal.es//NONSGML kigkonsult.se iCalcreator 2.29
 .29//
CALSCALE:GREGORIAN
METHOD:PUBLISH
UID:1861f075-6292-44a5-a1bb-e5dd461b973e
X-WR-CALNAME:JCal Pro Calendar
X-WR-CALDESC:Tu calendario de eventos online.
X-WR-TIMEZONE:Europe/Madrid
BEGIN:VTIMEZONE
TZID:Europe/Madrid
BEGIN:STANDARD
TZNAME:CET
DTSTART:20251026T030000
TZOFFSETFROM:+0200
TZOFFSETTO:+0100
RDATE:20261025T030000
END:STANDARD
BEGIN:DAYLIGHT
TZNAME:CEST
DTSTART:20260329T020000
TZOFFSETFROM:+0100
TZOFFSETTO:+0200
RDATE:20270328T020000
END:DAYLIGHT
END:VTIMEZONE
BEGIN:VEVENT
UID:20260131T120000CET-8696EJ3NUH@https://www.ciudadreal.es/
DTSTAMP:20260422T183356Z
CATEGORIES:Deporte
DESCRIPTION:<p>A cargo de: Carlos Vazquez BM Caserio y ADC Catedra 70 A<br 
 data-start='9955' data-end='9958' /> Lugar: Pabellón El Parque<br data-sta
 rt='9983' data-end='9986' /> Fecha y hora: Sábado 31 de enero de 2026\, 12
 :30 h</p>\n<hr />\n<p><em class='pdf'><a href='documentos/cultura/2026/ACT
 IVIDAD_FIN_DE_SEMANA_29_enero.pdf' target='_blank'>Actividad Fin De Semana
  29 Enero&gt\;&gt\;</a></em></p>
DTSTART;TZID=Europe/Madrid:20260131T120000
DTEND;TZID=Europe/Madrid:20260131T120000
SUMMARY:BALONMANO ALEVÍN MASCULINO: CARLOS VAZQUEZ BM CASERIO vs ADC CATEDR
 A 70 A
URL:https://www.ciudadreal.es/agenda-turismo/83-deporte/20881-balonmano-ale
 vin-masculino-carlos-vazquez-bm-caserio-vs-adc-catedra-70-a.html
X-ALT-DESC;FMTTYPE=TEXT/HTML:<p>A cargo de: Carlos Vazquez BM Caserio y ADC
  Catedra 70 A<br data-start='9955' data-end='9958' /> Lugar: Pabellón El P
 arque<br data-start='9983' data-end='9986' /> Fecha y hora: Sábado 31 de e
 nero de 2026\, 12:30 h</p>\n<hr />\n<p><em class='pdf'><a href='documentos
 /cultura/2026/ACTIVIDAD_FIN_DE_SEMANA_29_enero.pdf' target='_blank'>Activi
 dad Fin De Semana 29 Enero&gt\;&gt\;</a></em></p>
END:VEVENT
END:VCALENDAR
