BEGIN:VCALENDAR
VERSION:2.0
PRODID:-//https://www.ciudadreal.es//NONSGML kigkonsult.se iCalcreator 2.29
 .29//
CALSCALE:GREGORIAN
METHOD:PUBLISH
UID:a47cdab4-e222-4980-9bf6-f0359ef26349
X-WR-CALNAME:JCal Pro Calendar
X-WR-CALDESC:Tu calendario de eventos online.
X-WR-TIMEZONE:Europe/Madrid
BEGIN:VTIMEZONE
TZID:Europe/Madrid
BEGIN:STANDARD
TZNAME:CET
DTSTART:20251026T030000
TZOFFSETFROM:+0200
TZOFFSETTO:+0100
RDATE:20261025T030000
END:STANDARD
BEGIN:DAYLIGHT
TZNAME:CEST
DTSTART:20260329T020000
TZOFFSETFROM:+0100
TZOFFSETTO:+0200
RDATE:20270328T020000
END:DAYLIGHT
END:VTIMEZONE
BEGIN:VEVENT
UID:20260131T093000CET-1121MNEzc8@https://www.ciudadreal.es/
DTSTAMP:20260422T183407Z
CATEGORIES:Deporte
DESCRIPTION:<p>A cargo de: Prado-Marianistas B y Balonmano Pio XII<br data-
 start='9540' data-end='9543' /> Lugar: Pabellón El Parque<br data-start='9
 568' data-end='9571' /> Fecha y hora: Sábado 31 de enero de 2026\, 09:30 h
 </p>\n<hr />\n<p><em class='pdf'><a href='documentos/cultura/2026/ACTIVIDA
 D_FIN_DE_SEMANA_29_enero.pdf' target='_blank'>Actividad Fin De Semana 29 E
 nero&gt\;&gt\;</a></em></p>
DTSTART;TZID=Europe/Madrid:20260131T093000
DTEND;TZID=Europe/Madrid:20260131T093000
SUMMARY:BALONMANO ALEVÍN MASCULINO: PRADO-MARIANISTAS B vs BALONMANO PIO XI
 I
URL:https://www.ciudadreal.es/agenda-turismo/83-deporte/20879-balonmano-ale
 vin-masculino-prado-marianistas-b-vs-balonmano-pio-xii.html
X-ALT-DESC;FMTTYPE=TEXT/HTML:<p>A cargo de: Prado-Marianistas B y Balonmano
  Pio XII<br data-start='9540' data-end='9543' /> Lugar: Pabellón El Parque
 <br data-start='9568' data-end='9571' /> Fecha y hora: Sábado 31 de enero 
 de 2026\, 09:30 h</p>\n<hr />\n<p><em class='pdf'><a href='documentos/cult
 ura/2026/ACTIVIDAD_FIN_DE_SEMANA_29_enero.pdf' target='_blank'>Actividad F
 in De Semana 29 Enero&gt\;&gt\;</a></em></p>
END:VEVENT
END:VCALENDAR
