BEGIN:VCALENDAR
VERSION:2.0
PRODID:-//https://www.ciudadreal.es//NONSGML kigkonsult.se iCalcreator 2.29
 .29//
CALSCALE:GREGORIAN
METHOD:PUBLISH
UID:238bc41f-03d4-4d31-bbda-898fa8238903
X-WR-CALNAME:JCal Pro Calendar
X-WR-CALDESC:Tu calendario de eventos online.
X-WR-TIMEZONE:Europe/Madrid
BEGIN:VTIMEZONE
TZID:Europe/Madrid
BEGIN:STANDARD
TZNAME:CET
DTSTART:20251026T030000
TZOFFSETFROM:+0200
TZOFFSETTO:+0100
RDATE:20261025T030000
END:STANDARD
BEGIN:DAYLIGHT
TZNAME:CEST
DTSTART:20260329T020000
TZOFFSETFROM:+0100
TZOFFSETTO:+0200
RDATE:20270328T020000
END:DAYLIGHT
END:VTIMEZONE
BEGIN:VEVENT
UID:20260131T103000CET-6696AGTbPb@https://www.ciudadreal.es/
DTSTAMP:20260422T183451Z
CATEGORIES:Deporte
DESCRIPTION:<p>A cargo de: Basket Cervantes C. Real Rojo y Ayto. Miguelturr
 a<br data-start='8808' data-end='8811' /> Lugar: Polideportivo Puerta de S
 anta María – Pabellón<br data-start='8864' data-end='8867' /> Fecha y hora
 : Sábado 31 de enero de 2026\, 10:30 h</p>\n<hr />\n<p><em class='pdf'><a 
 href='documentos/cultura/2026/ACTIVIDAD_FIN_DE_SEMANA_29_enero.pdf' target
 ='_blank'>Actividad Fin De Semana 29 Enero&gt\;&gt\;</a></em></p>
DTSTART;TZID=Europe/Madrid:20260131T103000
DTEND;TZID=Europe/Madrid:20260131T103000
SUMMARY:BALONCESTO ALEVÍN MASCULINO: BASKET CERVANTES C. REAL ROJO vs AYTO.
  MIGUELTURRA
URL:https://www.ciudadreal.es/agenda-turismo/83-deporte/20876-baloncesto-al
 evin-masculino-basket-cervantes-c-real-rojo-vs-ayto-miguelturra.html
X-ALT-DESC;FMTTYPE=TEXT/HTML:<p>A cargo de: Basket Cervantes C. Real Rojo y
  Ayto. Miguelturra<br data-start='8808' data-end='8811' /> Lugar: Polidepo
 rtivo Puerta de Santa María – Pabellón<br data-start='8864' data-end='8867
 ' /> Fecha y hora: Sábado 31 de enero de 2026\, 10:30 h</p>\n<hr />\n<p><e
 m class='pdf'><a href='documentos/cultura/2026/ACTIVIDAD_FIN_DE_SEMANA_29_
 enero.pdf' target='_blank'>Actividad Fin De Semana 29 Enero&gt\;&gt\;</a><
 /em></p>
END:VEVENT
END:VCALENDAR
