BEGIN:VCALENDAR
VERSION:2.0
PRODID:-//https://www.ciudadreal.es//NONSGML kigkonsult.se iCalcreator 2.29
 .29//
CALSCALE:GREGORIAN
METHOD:PUBLISH
UID:dcb9a4c6-2a3d-4264-ac88-9f7cd8c6c0c9
X-WR-CALNAME:JCal Pro Calendar
X-WR-CALDESC:Tu calendario de eventos online.
X-WR-TIMEZONE:Europe/Madrid
BEGIN:VTIMEZONE
TZID:Europe/Madrid
BEGIN:STANDARD
TZNAME:CET
DTSTART:20251026T030000
TZOFFSETFROM:+0200
TZOFFSETTO:+0100
RDATE:20261025T030000
END:STANDARD
BEGIN:DAYLIGHT
TZNAME:CEST
DTSTART:20260329T020000
TZOFFSETFROM:+0100
TZOFFSETTO:+0200
RDATE:20270328T020000
END:DAYLIGHT
END:VTIMEZONE
BEGIN:VEVENT
UID:20260131T103000CET-5759exurFZ@https://www.ciudadreal.es/
DTSTAMP:20260422T183741Z
CATEGORIES:Deporte
DESCRIPTION:<p>A cargo de: Basket Cervantes C. Real Negro y EDM La Ula Fant
 astic Food BKP Academy<br data-start='8553' data-end='8556' /> Lugar: Poli
 deportivo Puerta de Santa María – Pabellón<br data-start='8609' data-end='
 8612' /> Fecha y hora: Sábado 31 de enero de 2026\, 10:30 h</p>\n<hr />\n<
 p><em class='pdf'><a href='documentos/cultura/2026/ACTIVIDAD_FIN_DE_SEMANA
 _29_enero.pdf' target='_blank'>Actividad Fin De Semana 29 Enero&gt\;&gt\;<
 /a></em></p>
DTSTART;TZID=Europe/Madrid:20260131T103000
DTEND;TZID=Europe/Madrid:20260131T103000
SUMMARY:BALONCESTO INFANTIL MASCULINO: BASKET CERVANTES C. REAL NEGRO vs ED
 M LA ULA FANTASTIC FOOD BKP ACADEMY
URL:https://www.ciudadreal.es/agenda-turismo/83-deporte/20875-baloncesto-in
 fantil-masculino-basket-cervantes-c-real-negro-vs-edm-la-ula-fantastic-foo
 d-bkp-academy.html
X-ALT-DESC;FMTTYPE=TEXT/HTML:<p>A cargo de: Basket Cervantes C. Real Negro 
 y EDM La Ula Fantastic Food BKP Academy<br data-start='8553' data-end='855
 6' /> Lugar: Polideportivo Puerta de Santa María – Pabellón<br data-start=
 '8609' data-end='8612' /> Fecha y hora: Sábado 31 de enero de 2026\, 10:30
  h</p>\n<hr />\n<p><em class='pdf'><a href='documentos/cultura/2026/ACTIVI
 DAD_FIN_DE_SEMANA_29_enero.pdf' target='_blank'>Actividad Fin De Semana 29
  Enero&gt\;&gt\;</a></em></p>
END:VEVENT
END:VCALENDAR
