BEGIN:VCALENDAR
VERSION:2.0
PRODID:-//https://www.ciudadreal.es//NONSGML kigkonsult.se iCalcreator 2.29
 .29//
CALSCALE:GREGORIAN
METHOD:PUBLISH
UID:49e6f4f2-ede7-4b36-b749-db30bb16cded
X-WR-CALNAME:JCal Pro Calendar
X-WR-CALDESC:Tu calendario de eventos online.
X-WR-TIMEZONE:Europe/Madrid
BEGIN:VTIMEZONE
TZID:Europe/Madrid
BEGIN:STANDARD
TZNAME:CET
DTSTART:20251026T030000
TZOFFSETFROM:+0200
TZOFFSETTO:+0100
RDATE:20261025T030000
END:STANDARD
BEGIN:DAYLIGHT
TZNAME:CEST
DTSTART:20260329T020000
TZOFFSETFROM:+0100
TZOFFSETTO:+0200
RDATE:20270328T020000
END:DAYLIGHT
END:VTIMEZONE
BEGIN:VEVENT
UID:20260131T090000CET-2206VJ5UtC@https://www.ciudadreal.es/
DTSTAMP:20260422T183530Z
CATEGORIES:Deporte
DESCRIPTION:<p>A cargo de: Basket Cervantes C. Real Amarillo y Prado Marian
 istas Blanco<br data-start='8254' data-end='8257' /> Lugar: Polideportivo 
 Puerta de Santa María – Pabellón<br data-start='8310' data-end='8313' /> F
 echa y hora: Sábado 31 de enero de 2026\, 09:00 h</p>\n<hr />\n<p><em clas
 s='pdf'><a href='documentos/cultura/2026/ACTIVIDAD_FIN_DE_SEMANA_29_enero.
 pdf' target='_blank'>Actividad Fin De Semana 29 Enero&gt\;&gt\;</a></em></
 p>
DTSTART;TZID=Europe/Madrid:20260131T090000
DTEND;TZID=Europe/Madrid:20260131T090000
SUMMARY:BALONCESTO INFANTIL MASCULINO: BASKET CERVANTES C. REAL AMARILLO vs
  PRADO MARIANISTAS BLANCO
URL:https://www.ciudadreal.es/agenda-turismo/83-deporte/20874-baloncesto-in
 fantil-masculino-basket-cervantes-c-real-amarillo-vs-prado-marianistas-bla
 nco.html
X-ALT-DESC;FMTTYPE=TEXT/HTML:<p>A cargo de: Basket Cervantes C. Real Amaril
 lo y Prado Marianistas Blanco<br data-start='8254' data-end='8257' /> Luga
 r: Polideportivo Puerta de Santa María – Pabellón<br data-start='8310' dat
 a-end='8313' /> Fecha y hora: Sábado 31 de enero de 2026\, 09:00 h</p>\n<h
 r />\n<p><em class='pdf'><a href='documentos/cultura/2026/ACTIVIDAD_FIN_DE
 _SEMANA_29_enero.pdf' target='_blank'>Actividad Fin De Semana 29 Enero&gt\
 ;&gt\;</a></em></p>
END:VEVENT
END:VCALENDAR
