BEGIN:VCALENDAR
VERSION:2.0
PRODID:-//https://www.ciudadreal.es//NONSGML kigkonsult.se iCalcreator 2.29
 .29//
CALSCALE:GREGORIAN
METHOD:PUBLISH
UID:641cc1ef-d442-4476-bd83-251be81621d3
X-WR-CALNAME:JCal Pro Calendar
X-WR-CALDESC:Tu calendario de eventos online.
X-WR-TIMEZONE:Europe/Madrid
BEGIN:VTIMEZONE
TZID:Europe/Madrid
BEGIN:STANDARD
TZNAME:CET
DTSTART:20251026T030000
TZOFFSETFROM:+0200
TZOFFSETTO:+0100
RDATE:20261025T030000
END:STANDARD
BEGIN:DAYLIGHT
TZNAME:CEST
DTSTART:20260329T020000
TZOFFSETFROM:+0100
TZOFFSETTO:+0200
RDATE:20270328T020000
END:DAYLIGHT
END:VTIMEZONE
BEGIN:VEVENT
UID:20260131T193000CET-4984RHUgzD@https://www.ciudadreal.es/
DTSTAMP:20260422T183628Z
CATEGORIES:Deporte
DESCRIPTION:<p>A cargo de: C.D. Ciudad Real FC C y CDB Porzuna<br data-star
 t='7993' data-end='7996' /> Lugar: Ciudad Deportiva Sur – Campo<br data-st
 art='8031' data-end='8034' /> Fecha y hora: Sábado 31 de enero de 2026\, 1
 9:30 h</p>\n<hr />\n<p><em class='pdf'><a href='documentos/cultura/2026/AC
 TIVIDAD_FIN_DE_SEMANA_29_enero.pdf' target='_blank'>Actividad Fin De Seman
 a 29 Enero&gt\;&gt\;</a></em></p>
DTSTART;TZID=Europe/Madrid:20260131T193000
DTEND;TZID=Europe/Madrid:20260131T193000
SUMMARY:FÚTBOL JUVENIL PROVINCIAL: C.D. CIUDAD REAL FC C vs CDB PORZUNA
URL:https://www.ciudadreal.es/agenda-turismo/83-deporte/20873-futbol-juveni
 l-provincial-c-d-ciudad-real-fc-c-vs-cdb-porzuna.html
X-ALT-DESC;FMTTYPE=TEXT/HTML:<p>A cargo de: C.D. Ciudad Real FC C y CDB Por
 zuna<br data-start='7993' data-end='7996' /> Lugar: Ciudad Deportiva Sur –
  Campo<br data-start='8031' data-end='8034' /> Fecha y hora: Sábado 31 de 
 enero de 2026\, 19:30 h</p>\n<hr />\n<p><em class='pdf'><a href='documento
 s/cultura/2026/ACTIVIDAD_FIN_DE_SEMANA_29_enero.pdf' target='_blank'>Activ
 idad Fin De Semana 29 Enero&gt\;&gt\;</a></em></p>
END:VEVENT
END:VCALENDAR
