BEGIN:VCALENDAR
VERSION:2.0
PRODID:-//https://www.ciudadreal.es//NONSGML kigkonsult.se iCalcreator 2.29
 .29//
CALSCALE:GREGORIAN
METHOD:PUBLISH
UID:791ed943-e7e0-4064-8205-8a94bd108cc2
X-WR-CALNAME:JCal Pro Calendar
X-WR-CALDESC:Tu calendario de eventos online.
X-WR-TIMEZONE:Europe/Madrid
BEGIN:VTIMEZONE
TZID:Europe/Madrid
BEGIN:STANDARD
TZNAME:CET
DTSTART:20251026T030000
TZOFFSETFROM:+0200
TZOFFSETTO:+0100
RDATE:20261025T030000
END:STANDARD
BEGIN:DAYLIGHT
TZNAME:CEST
DTSTART:20260329T020000
TZOFFSETFROM:+0100
TZOFFSETTO:+0200
RDATE:20270328T020000
END:DAYLIGHT
END:VTIMEZONE
BEGIN:VEVENT
UID:20260131T193000CET-6007Ub6Avo@https://www.ciudadreal.es/
DTSTAMP:20260422T183553Z
CATEGORIES:Deporte
DESCRIPTION:<p>A cargo de: D. Bosco Salesianos CR y Azuqueca<br data-start=
 '7129' data-end='7132' /> Lugar: Pabellón Rey Felipe VI<br data-start='716
 1' data-end='7164' /> Fecha y hora: Sábado 31 de enero de 2026\, 19:30 h</
 p>\n<hr />\n<p><em class='pdf'><a href='documentos/cultura/2026/ACTIVIDAD_
 FIN_DE_SEMANA_29_enero.pdf' target='_blank'>Actividad Fin De Semana 29 Ene
 ro&gt\;&gt\;</a></em></p>
DTSTART;TZID=Europe/Madrid:20260131T193000
DTEND;TZID=Europe/Madrid:20260131T193000
SUMMARY:FÚTBOL SALA 1º AUTONÓMICA PREFERENTE: D. BOSCO SALESIANOS CR vs AZU
 QUECA
URL:https://www.ciudadreal.es/agenda-turismo/83-deporte/20869-futbol-sala-1
 -autonomica-preferente-d-bosco-salesianos-cr-vs-azuqueca.html
X-ALT-DESC;FMTTYPE=TEXT/HTML:<p>A cargo de: D. Bosco Salesianos CR y Azuque
 ca<br data-start='7129' data-end='7132' /> Lugar: Pabellón Rey Felipe VI<b
 r data-start='7161' data-end='7164' /> Fecha y hora: Sábado 31 de enero de
  2026\, 19:30 h</p>\n<hr />\n<p><em class='pdf'><a href='documentos/cultur
 a/2026/ACTIVIDAD_FIN_DE_SEMANA_29_enero.pdf' target='_blank'>Actividad Fin
  De Semana 29 Enero&gt\;&gt\;</a></em></p>
END:VEVENT
END:VCALENDAR
