BEGIN:VCALENDAR
VERSION:2.0
PRODID:-//https://www.ciudadreal.es//NONSGML kigkonsult.se iCalcreator 2.29
 .29//
CALSCALE:GREGORIAN
METHOD:PUBLISH
UID:52aa5b97-dc00-4d80-9f35-3d9266e761f7
X-WR-CALNAME:JCal Pro Calendar
X-WR-CALDESC:Tu calendario de eventos online.
X-WR-TIMEZONE:Europe/Madrid
BEGIN:VTIMEZONE
TZID:Europe/Madrid
BEGIN:STANDARD
TZNAME:CET
DTSTART:20251026T030000
TZOFFSETFROM:+0200
TZOFFSETTO:+0100
RDATE:20261025T030000
END:STANDARD
BEGIN:DAYLIGHT
TZNAME:CEST
DTSTART:20260329T020000
TZOFFSETFROM:+0100
TZOFFSETTO:+0200
RDATE:20270328T020000
END:DAYLIGHT
END:VTIMEZONE
BEGIN:VEVENT
UID:20260131T110000CET-6383ou9mSI@https://www.ciudadreal.es/
DTSTAMP:20260422T183751Z
CATEGORIES:Deporte
DESCRIPTION:<p>A cargo de: AD Prado Marianistas Sanicentro y BM Guadalajara
 <br data-start='6678' data-end='6681' /> Lugar: Pabellón Rey Felipe VI<br 
 data-start='6710' data-end='6713' /> Fecha y hora: Sábado 31 de enero de 2
 026\, 11:00 h</p>\n<hr />\n<p><em class='pdf'><a href='documentos/cultura/
 2026/ACTIVIDAD_FIN_DE_SEMANA_29_enero.pdf' target='_blank'>Actividad Fin D
 e Semana 29 Enero&gt\;&gt\;</a></em></p>
DTSTART;TZID=Europe/Madrid:20260131T110000
DTEND;TZID=Europe/Madrid:20260131T110000
SUMMARY:BALONMANO CADETE REGIONAL MASCULINO: AD PRADO MARIANISTAS SANICENTR
 O vs BM GUADALAJARA
URL:https://www.ciudadreal.es/agenda-turismo/83-deporte/20867-balonmano-cad
 ete-regional-masculino-ad-prado-marianistas-sanicentro-vs-bm-guadalajara.h
 tml
X-ALT-DESC;FMTTYPE=TEXT/HTML:<p>A cargo de: AD Prado Marianistas Sanicentro
  y BM Guadalajara<br data-start='6678' data-end='6681' /> Lugar: Pabellón 
 Rey Felipe VI<br data-start='6710' data-end='6713' /> Fecha y hora: Sábado
  31 de enero de 2026\, 11:00 h</p>\n<hr />\n<p><em class='pdf'><a href='do
 cumentos/cultura/2026/ACTIVIDAD_FIN_DE_SEMANA_29_enero.pdf' target='_blank
 '>Actividad Fin De Semana 29 Enero&gt\;&gt\;</a></em></p>
END:VEVENT
END:VCALENDAR
