BEGIN:VCALENDAR
VERSION:2.0
PRODID:-//https://www.ciudadreal.es//NONSGML kigkonsult.se iCalcreator 2.29
 .29//
CALSCALE:GREGORIAN
METHOD:PUBLISH
UID:0d687a7b-f484-485d-a7a8-1bc772ce37f6
X-WR-CALNAME:JCal Pro Calendar
X-WR-CALDESC:Tu calendario de eventos online.
X-WR-TIMEZONE:Europe/Madrid
BEGIN:VTIMEZONE
TZID:Europe/Madrid
BEGIN:STANDARD
TZNAME:CET
DTSTART:20251026T030000
TZOFFSETFROM:+0200
TZOFFSETTO:+0100
RDATE:20261025T030000
END:STANDARD
BEGIN:DAYLIGHT
TZNAME:CEST
DTSTART:20260329T020000
TZOFFSETFROM:+0100
TZOFFSETTO:+0200
RDATE:20270328T020000
END:DAYLIGHT
END:VTIMEZONE
BEGIN:VEVENT
UID:20260131T095000CET-6916D8LH5H@https://www.ciudadreal.es/
DTSTAMP:20260422T183819Z
CATEGORIES:Deporte
DESCRIPTION:<p>A cargo de: CD Manchego B y CD Ciudad Real FC Rojo<br data-s
 tart='112' data-end='115' /> Lugar: Polideportivo Rey Juan Carlos I – Camp
 o 4<br data-start='163' data-end='166' /> Fecha y hora: Viernes 30 de ener
 o de 2026\, 16:15 h</p>\n<hr />\n<p><em class='pdf'><a href='documentos/cu
 ltura/2026/ACTIVIDAD_FIN_DE_SEMANA_29_enero.pdf' target='_blank'>Actividad
  Fin De Semana 29 Enero&gt\;&gt\;</a></em></p>
DTSTART;TZID=Europe/Madrid:20260131T095000
DTEND;TZID=Europe/Madrid:20260131T095000
SUMMARY:BALONMANO INFANTIL FEMENINO: PRADO-MARIANISTAS B vs BM PIO XII
URL:https://www.ciudadreal.es/agenda-turismo/83-deporte/20866-balonmano-inf
 antil-femenino-prado-marianistas-b-vs-bm-pio-xii.html
X-ALT-DESC;FMTTYPE=TEXT/HTML:<p>A cargo de: CD Manchego B y CD Ciudad Real 
 FC Rojo<br data-start='112' data-end='115' /> Lugar: Polideportivo Rey Jua
 n Carlos I – Campo 4<br data-start='163' data-end='166' /> Fecha y hora: V
 iernes 30 de enero de 2026\, 16:15 h</p>\n<hr />\n<p><em class='pdf'><a hr
 ef='documentos/cultura/2026/ACTIVIDAD_FIN_DE_SEMANA_29_enero.pdf' target='
 _blank'>Actividad Fin De Semana 29 Enero&gt\;&gt\;</a></em></p>
END:VEVENT
END:VCALENDAR
