BEGIN:VCALENDAR
VERSION:2.0
PRODID:-//https://www.ciudadreal.es//NONSGML kigkonsult.se iCalcreator 2.29
 .29//
CALSCALE:GREGORIAN
METHOD:PUBLISH
UID:249f199c-25ae-4767-b66d-690be09773ac
X-WR-CALNAME:JCal Pro Calendar
X-WR-CALDESC:Tu calendario de eventos online.
X-WR-TIMEZONE:Europe/Madrid
BEGIN:VTIMEZONE
TZID:Europe/Madrid
BEGIN:STANDARD
TZNAME:CET
DTSTART:20251026T030000
TZOFFSETFROM:+0200
TZOFFSETTO:+0100
RDATE:20261025T030000
END:STANDARD
BEGIN:DAYLIGHT
TZNAME:CEST
DTSTART:20260329T020000
TZOFFSETFROM:+0100
TZOFFSETTO:+0200
RDATE:20270328T020000
END:DAYLIGHT
END:VTIMEZONE
BEGIN:VEVENT
UID:20260131T090000CET-3664X38dlj@https://www.ciudadreal.es/
DTSTAMP:20260422T184437Z
CATEGORIES:Deporte
DESCRIPTION:<p>A cargo de: Prado-Marianistas y Caserio Alevín Femenino Azul
 <br data-start='6244' data-end='6247' /> Lugar: Pabellón Rey Felipe VI<br 
 data-start='6276' data-end='6279' /> Fecha y hora: Sábado 31 de enero de 2
 026\, 09:00 h</p>\n<hr />\n<p><em class='pdf'><a href='documentos/cultura/
 2026/ACTIVIDAD_FIN_DE_SEMANA_29_enero.pdf' target='_blank'>Actividad Fin D
 e Semana 29 Enero&gt\;&gt\;</a></em></p>
DTSTART;TZID=Europe/Madrid:20260131T090000
DTEND;TZID=Europe/Madrid:20260131T090000
SUMMARY:BALONMANO ALEVÍN FEMENINO: PRADO-MARIANISTAS vs CASERIO ALEVÍN FEME
 NINO AZUL
URL:https://www.ciudadreal.es/agenda-turismo/83-deporte/20865-balonmano-ale
 vin-femenino-prado-marianistas-vs-caserio-alevin-femenino-azul.html
X-ALT-DESC;FMTTYPE=TEXT/HTML:<p>A cargo de: Prado-Marianistas y Caserio Ale
 vín Femenino Azul<br data-start='6244' data-end='6247' /> Lugar: Pabellón 
 Rey Felipe VI<br data-start='6276' data-end='6279' /> Fecha y hora: Sábado
  31 de enero de 2026\, 09:00 h</p>\n<hr />\n<p><em class='pdf'><a href='do
 cumentos/cultura/2026/ACTIVIDAD_FIN_DE_SEMANA_29_enero.pdf' target='_blank
 '>Actividad Fin De Semana 29 Enero&gt\;&gt\;</a></em></p>
END:VEVENT
END:VCALENDAR
