BEGIN:VCALENDAR
VERSION:2.0
PRODID:-//https://www.ciudadreal.es//NONSGML kigkonsult.se iCalcreator 2.29
 .29//
CALSCALE:GREGORIAN
METHOD:PUBLISH
UID:bbae2bdf-e46e-4e03-ad42-9f37a988722c
X-WR-CALNAME:JCal Pro Calendar
X-WR-CALDESC:Tu calendario de eventos online.
X-WR-TIMEZONE:Europe/Madrid
BEGIN:VTIMEZONE
TZID:Europe/Madrid
BEGIN:STANDARD
TZNAME:CET
DTSTART:20251026T030000
TZOFFSETFROM:+0200
TZOFFSETTO:+0100
RDATE:20261025T030000
END:STANDARD
BEGIN:DAYLIGHT
TZNAME:CEST
DTSTART:20260329T020000
TZOFFSETFROM:+0100
TZOFFSETTO:+0200
RDATE:20270328T020000
END:DAYLIGHT
END:VTIMEZONE
BEGIN:VEVENT
UID:20260131T170000CET-5236O3kLU1@https://www.ciudadreal.es/
DTSTAMP:20260422T183552Z
CATEGORIES:Deporte
DESCRIPTION:<p>A cargo de: CD Manchego y Calvo Sotelo Puertollano<br data-s
 tart='5544' data-end='5547' /> Lugar: Polideportivo Rey Juan Carlos I – Ca
 mpo 1<br data-start='5595' data-end='5598' /> Fecha y hora: Sábado 31 de e
 nero de 2026\, 17:00 h</p>\n<hr />\n<p><em class='pdf'><a href='documentos
 /cultura/2026/ACTIVIDAD_FIN_DE_SEMANA_29_enero.pdf' target='_blank'>Activi
 dad Fin De Semana 29 Enero&gt\;&gt\;</a></em></p>
DTSTART;TZID=Europe/Madrid:20260131T170000
DTEND;TZID=Europe/Madrid:20260131T170000
SUMMARY:FÚTBOL 3º FEDERACIÓN: CD MANCHEGO vs CALVO SOTELO PUERTOLLANO
URL:https://www.ciudadreal.es/agenda-turismo/83-deporte/20862-futbol-3-fede
 racion-cd-manchego-vs-calvo-sotelo-puertollano.html
X-ALT-DESC;FMTTYPE=TEXT/HTML:<p>A cargo de: CD Manchego y Calvo Sotelo Puer
 tollano<br data-start='5544' data-end='5547' /> Lugar: Polideportivo Rey J
 uan Carlos I – Campo 1<br data-start='5595' data-end='5598' /> Fecha y hor
 a: Sábado 31 de enero de 2026\, 17:00 h</p>\n<hr />\n<p><em class='pdf'><a
  href='documentos/cultura/2026/ACTIVIDAD_FIN_DE_SEMANA_29_enero.pdf' targe
 t='_blank'>Actividad Fin De Semana 29 Enero&gt\;&gt\;</a></em></p>
END:VEVENT
END:VCALENDAR
