BEGIN:VCALENDAR
VERSION:2.0
PRODID:-//https://www.ciudadreal.es//NONSGML kigkonsult.se iCalcreator 2.29
 .29//
CALSCALE:GREGORIAN
METHOD:PUBLISH
UID:a3eb6e2b-6b20-4295-adec-51429a83c2a1
X-WR-CALNAME:JCal Pro Calendar
X-WR-CALDESC:Tu calendario de eventos online.
X-WR-TIMEZONE:Europe/Madrid
BEGIN:VTIMEZONE
TZID:Europe/Madrid
BEGIN:STANDARD
TZNAME:CET
DTSTART:20251026T030000
TZOFFSETFROM:+0200
TZOFFSETTO:+0100
RDATE:20261025T030000
END:STANDARD
BEGIN:DAYLIGHT
TZNAME:CEST
DTSTART:20260329T020000
TZOFFSETFROM:+0100
TZOFFSETTO:+0200
RDATE:20270328T020000
END:DAYLIGHT
END:VTIMEZONE
BEGIN:VEVENT
UID:20260131T123000CET-9341CtncJr@https://www.ciudadreal.es/
DTSTAMP:20260422T183751Z
CATEGORIES:Deporte
DESCRIPTION:<p>A cargo de: CD Ciudad Real FC Marrón y Prado-Marianistas A<b
 r data-start='5323' data-end='5326' /> Lugar: Polideportivo Rey Juan Carlo
 s I – Campo 2<br data-start='5374' data-end='5377' /> Fecha y hora: Sábado
  31 de enero de 2026\, 12:30 h</p>\n<hr />\n<p><em class='pdf'><a href='do
 cumentos/cultura/2026/ACTIVIDAD_FIN_DE_SEMANA_29_enero.pdf' target='_blank
 '>Actividad Fin De Semana 29 Enero&gt\;&gt\;</a></em></p>
DTSTART;TZID=Europe/Madrid:20260131T123000
DTEND;TZID=Europe/Madrid:20260131T123000
SUMMARY:FÚTBOL INFANTIL MASCULINO: CD CIUDAD REAL FC MARRÓN vs PRADO-MARIAN
 ISTAS A
URL:https://www.ciudadreal.es/agenda-turismo/83-deporte/20861-futbol-infant
 il-masculino-cd-ciudad-real-fc-marron-vs-prado-marianistas-a.html
X-ALT-DESC;FMTTYPE=TEXT/HTML:<p>A cargo de: CD Ciudad Real FC Marrón y Prad
 o-Marianistas A<br data-start='5323' data-end='5326' /> Lugar: Polideporti
 vo Rey Juan Carlos I – Campo 2<br data-start='5374' data-end='5377' /> Fec
 ha y hora: Sábado 31 de enero de 2026\, 12:30 h</p>\n<hr />\n<p><em class=
 'pdf'><a href='documentos/cultura/2026/ACTIVIDAD_FIN_DE_SEMANA_29_enero.pd
 f' target='_blank'>Actividad Fin De Semana 29 Enero&gt\;&gt\;</a></em></p>
END:VEVENT
END:VCALENDAR
