BEGIN:VCALENDAR
VERSION:2.0
PRODID:-//https://www.ciudadreal.es//NONSGML kigkonsult.se iCalcreator 2.29
 .29//
CALSCALE:GREGORIAN
METHOD:PUBLISH
UID:e4ada206-eeb7-4308-9743-a1fc5fd9280d
X-WR-CALNAME:JCal Pro Calendar
X-WR-CALDESC:Tu calendario de eventos online.
X-WR-TIMEZONE:Europe/Madrid
BEGIN:VTIMEZONE
TZID:Europe/Madrid
BEGIN:STANDARD
TZNAME:CET
DTSTART:20251026T030000
TZOFFSETFROM:+0200
TZOFFSETTO:+0100
RDATE:20261025T030000
END:STANDARD
BEGIN:DAYLIGHT
TZNAME:CEST
DTSTART:20260329T020000
TZOFFSETFROM:+0100
TZOFFSETTO:+0200
RDATE:20270328T020000
END:DAYLIGHT
END:VTIMEZONE
BEGIN:VEVENT
UID:20260131T120000CET-4615moEzRN@https://www.ciudadreal.es/
DTSTAMP:20260422T183356Z
CATEGORIES:Deporte
DESCRIPTION:<p>A cargo de: BM Pio XII y EDM Balonmano Puertollano Rojo<br d
 ata-start='5080' data-end='5083' /> Lugar: Polideportivo Rey Juan Carlos I
  – Pabellón<br data-start='5132' data-end='5135' /> Fecha y hora: Sábado 3
 1 de enero de 2026\, 12:00 h</p>\n<hr />\n<p><em class='pdf'><a href='docu
 mentos/cultura/2026/ACTIVIDAD_FIN_DE_SEMANA_29_enero.pdf' target='_blank'>
 Actividad Fin De Semana 29 Enero&gt\;&gt\;</a></em></p>
DTSTART;TZID=Europe/Madrid:20260131T120000
DTEND;TZID=Europe/Madrid:20260131T120000
SUMMARY:BALONMANO INFANTIL MASCULINO: BM PIO XII vs EDM BALONMANO PUERTOLLA
 NO ROJO
URL:https://www.ciudadreal.es/agenda-turismo/83-deporte/20860-balonmano-inf
 antil-masculino-bm-pio-xii-vs-edm-balonmano-puertollano-rojo.html
X-ALT-DESC;FMTTYPE=TEXT/HTML:<p>A cargo de: BM Pio XII y EDM Balonmano Puer
 tollano Rojo<br data-start='5080' data-end='5083' /> Lugar: Polideportivo 
 Rey Juan Carlos I – Pabellón<br data-start='5132' data-end='5135' /> Fecha
  y hora: Sábado 31 de enero de 2026\, 12:00 h</p>\n<hr />\n<p><em class='p
 df'><a href='documentos/cultura/2026/ACTIVIDAD_FIN_DE_SEMANA_29_enero.pdf'
  target='_blank'>Actividad Fin De Semana 29 Enero&gt\;&gt\;</a></em></p>
END:VEVENT
END:VCALENDAR
