BEGIN:VCALENDAR
VERSION:2.0
PRODID:-//https://www.ciudadreal.es//NONSGML kigkonsult.se iCalcreator 2.29
 .29//
CALSCALE:GREGORIAN
METHOD:PUBLISH
UID:acd986d8-24b8-4a57-8db2-f23098dc4f65
X-WR-CALNAME:JCal Pro Calendar
X-WR-CALDESC:Tu calendario de eventos online.
X-WR-TIMEZONE:Europe/Madrid
BEGIN:VTIMEZONE
TZID:Europe/Madrid
BEGIN:STANDARD
TZNAME:CET
DTSTART:20251026T030000
TZOFFSETFROM:+0200
TZOFFSETTO:+0100
RDATE:20261025T030000
END:STANDARD
BEGIN:DAYLIGHT
TZNAME:CEST
DTSTART:20260329T020000
TZOFFSETFROM:+0100
TZOFFSETTO:+0200
RDATE:20270328T020000
END:DAYLIGHT
END:VTIMEZONE
BEGIN:VEVENT
UID:20260131T114500CET-3681AzNUUw@https://www.ciudadreal.es/
DTSTAMP:20260422T183753Z
CATEGORIES:Deporte
DESCRIPTION:<p>A cargo de: CD Ciudad Real FC Verde y CD Ciudad Real FC Marr
 ón<br data-start='4841' data-end='4844' /> Lugar: Polideportivo Rey Juan C
 arlos I – Campo 3<br data-start='4892' data-end='4895' /> Fecha y hora: Sá
 bado 31 de enero de 2026\, 11:45 h</p>\n<hr />\n<p><em class='pdf'><a href
 ='documentos/cultura/2026/ACTIVIDAD_FIN_DE_SEMANA_29_enero.pdf' target='_b
 lank'>Actividad Fin De Semana 29 Enero&gt\;&gt\;</a></em></p>
DTSTART;TZID=Europe/Madrid:20260131T114500
DTEND;TZID=Europe/Madrid:20260131T114500
SUMMARY:FÚTBOL CADETE MASCULINO: CD CIUDAD REAL FC VERDE vs CD CIUDAD REAL 
 FC MARRÓN
URL:https://www.ciudadreal.es/agenda-turismo/83-deporte/20859-futbol-cadete
 -masculino-cd-ciudad-real-fc-verde-vs-cd-ciudad-real-fc-marron.html
X-ALT-DESC;FMTTYPE=TEXT/HTML:<p>A cargo de: CD Ciudad Real FC Verde y CD Ci
 udad Real FC Marrón<br data-start='4841' data-end='4844' /> Lugar: Polidep
 ortivo Rey Juan Carlos I – Campo 3<br data-start='4892' data-end='4895' />
  Fecha y hora: Sábado 31 de enero de 2026\, 11:45 h</p>\n<hr />\n<p><em cl
 ass='pdf'><a href='documentos/cultura/2026/ACTIVIDAD_FIN_DE_SEMANA_29_ener
 o.pdf' target='_blank'>Actividad Fin De Semana 29 Enero&gt\;&gt\;</a></em>
 </p>
END:VEVENT
END:VCALENDAR
