BEGIN:VCALENDAR
VERSION:2.0
PRODID:-//https://www.ciudadreal.es//NONSGML kigkonsult.se iCalcreator 2.29
 .29//
CALSCALE:GREGORIAN
METHOD:PUBLISH
UID:89b68953-e692-4fc3-89db-dd54eeec9ea5
X-WR-CALNAME:JCal Pro Calendar
X-WR-CALDESC:Tu calendario de eventos online.
X-WR-TIMEZONE:Europe/Madrid
BEGIN:VTIMEZONE
TZID:Europe/Madrid
BEGIN:STANDARD
TZNAME:CET
DTSTART:20251026T030000
TZOFFSETFROM:+0200
TZOFFSETTO:+0100
RDATE:20261025T030000
END:STANDARD
BEGIN:DAYLIGHT
TZNAME:CEST
DTSTART:20260329T020000
TZOFFSETFROM:+0100
TZOFFSETTO:+0200
RDATE:20270328T020000
END:DAYLIGHT
END:VTIMEZONE
BEGIN:VEVENT
UID:20260131T110000CET-0673jhmu8n@https://www.ciudadreal.es/
DTSTAMP:20260422T183316Z
CATEGORIES:Deporte
DESCRIPTION:<p>A cargo de: Prado-Marianistas A y Malagón A<br data-start='4
 593' data-end='4596' /> Lugar: Polideportivo Rey Juan Carlos I – Campo 4<b
 r data-start='4644' data-end='4647' /> Fecha y hora: Sábado 31 de enero de
  2026\, 11:00 h</p>\n<hr />\n<p><em class='pdf'><a href='documentos/cultur
 a/2026/ACTIVIDAD_FIN_DE_SEMANA_29_enero.pdf' target='_blank'>Actividad Fin
  De Semana 29 Enero&gt\;&gt\;</a></em></p>
DTSTART;TZID=Europe/Madrid:20260131T110000
DTEND;TZID=Europe/Madrid:20260131T110000
SUMMARY:FÚTBOL BENJAMÍN: PRADO-MARIANISTAS A vs MALAGÓN A
URL:https://www.ciudadreal.es/agenda-turismo/83-deporte/20858-futbol-benjam
 in-prado-marianistas-a-vs-malagon-a.html
X-ALT-DESC;FMTTYPE=TEXT/HTML:<p>A cargo de: Prado-Marianistas A y Malagón A
 <br data-start='4593' data-end='4596' /> Lugar: Polideportivo Rey Juan Car
 los I – Campo 4<br data-start='4644' data-end='4647' /> Fecha y hora: Sába
 do 31 de enero de 2026\, 11:00 h</p>\n<hr />\n<p><em class='pdf'><a href='
 documentos/cultura/2026/ACTIVIDAD_FIN_DE_SEMANA_29_enero.pdf' target='_bla
 nk'>Actividad Fin De Semana 29 Enero&gt\;&gt\;</a></em></p>
END:VEVENT
END:VCALENDAR
