BEGIN:VCALENDAR
VERSION:2.0
PRODID:-//https://www.ciudadreal.es//NONSGML kigkonsult.se iCalcreator 2.29
 .29//
CALSCALE:GREGORIAN
METHOD:PUBLISH
UID:023a9358-c9e0-4c6e-a7fa-06fcbeb1e70c
X-WR-CALNAME:JCal Pro Calendar
X-WR-CALDESC:Tu calendario de eventos online.
X-WR-TIMEZONE:Europe/Madrid
BEGIN:VTIMEZONE
TZID:Europe/Madrid
BEGIN:STANDARD
TZNAME:CET
DTSTART:20251026T030000
TZOFFSETFROM:+0200
TZOFFSETTO:+0100
RDATE:20261025T030000
END:STANDARD
BEGIN:DAYLIGHT
TZNAME:CEST
DTSTART:20260329T020000
TZOFFSETFROM:+0100
TZOFFSETTO:+0200
RDATE:20270328T020000
END:DAYLIGHT
END:VTIMEZONE
BEGIN:VEVENT
UID:20260131T110000CET-1845UFDEGF@https://www.ciudadreal.es/
DTSTAMP:20260422T183655Z
CATEGORIES:Deporte
DESCRIPTION:<p>A cargo de: CD Ciudad Real FC Naranja y CD Manchego Gabry<br
  data-start='4391' data-end='4394' /> Lugar: Polideportivo Rey Juan Carlos
  I – Campo 2<br data-start='4442' data-end='4445' /> Fecha y hora: Sábado 
 31 de enero de 2026\, 11:00 h</p>\n<hr />\n<p><em class='pdf'><a href='doc
 umentos/cultura/2026/ACTIVIDAD_FIN_DE_SEMANA_29_enero.pdf' target='_blank'
 >Actividad Fin De Semana 29 Enero&gt\;&gt\;</a></em></p>
DTSTART;TZID=Europe/Madrid:20260131T110000
DTEND;TZID=Europe/Madrid:20260131T110000
SUMMARY:FÚTBOL INFANTIL MASCULINO: CD CIUDAD REAL FC NARANJA vs CD MANCHEGO
  GABRY
URL:https://www.ciudadreal.es/agenda-turismo/83-deporte/20857-futbol-infant
 il-masculino-cd-ciudad-real-fc-naranja-vs-cd-manchego-gabry.html
X-ALT-DESC;FMTTYPE=TEXT/HTML:<p>A cargo de: CD Ciudad Real FC Naranja y CD 
 Manchego Gabry<br data-start='4391' data-end='4394' /> Lugar: Polideportiv
 o Rey Juan Carlos I – Campo 2<br data-start='4442' data-end='4445' /> Fech
 a y hora: Sábado 31 de enero de 2026\, 11:00 h</p>\n<hr />\n<p><em class='
 pdf'><a href='documentos/cultura/2026/ACTIVIDAD_FIN_DE_SEMANA_29_enero.pdf
 ' target='_blank'>Actividad Fin De Semana 29 Enero&gt\;&gt\;</a></em></p>
END:VEVENT
END:VCALENDAR
