BEGIN:VCALENDAR
VERSION:2.0
PRODID:-//https://www.ciudadreal.es//NONSGML kigkonsult.se iCalcreator 2.29
 .29//
CALSCALE:GREGORIAN
METHOD:PUBLISH
UID:eb2ea26e-5343-49da-b46d-395a5b20e394
X-WR-CALNAME:JCal Pro Calendar
X-WR-CALDESC:Tu calendario de eventos online.
X-WR-TIMEZONE:Europe/Madrid
BEGIN:VTIMEZONE
TZID:Europe/Madrid
BEGIN:STANDARD
TZNAME:CET
DTSTART:20251026T030000
TZOFFSETFROM:+0200
TZOFFSETTO:+0100
RDATE:20261025T030000
END:STANDARD
BEGIN:DAYLIGHT
TZNAME:CEST
DTSTART:20260329T020000
TZOFFSETFROM:+0100
TZOFFSETTO:+0200
RDATE:20270328T020000
END:DAYLIGHT
END:VTIMEZONE
BEGIN:VEVENT
UID:20260131T110000CET-3448ePs6au@https://www.ciudadreal.es/
DTSTAMP:20260422T185524Z
CATEGORIES:Deporte
DESCRIPTION:<p>A cargo de: Globalcaja BM Caserio Azul y Ayto/Handball Manza
 nares<br data-start='4150' data-end='4153' /> Lugar: Polideportivo Rey Jua
 n Carlos I – Pabellón<br data-start='4202' data-end='4205' /> Fecha y hora
 : Sábado 31 de enero de 2026\, 11:00 h</p>\n<hr />\n<p><em class='pdf'><a 
 href='documentos/cultura/2026/ACTIVIDAD_FIN_DE_SEMANA_29_enero.pdf' target
 ='_blank'>Actividad Fin De Semana 29 Enero&gt\;&gt\;</a></em></p>
DTSTART;TZID=Europe/Madrid:20260131T110000
DTEND;TZID=Europe/Madrid:20260131T110000
SUMMARY:BALONMANO INFANTIL MASCULINO: GLOBALCAJA BM CASERIO AZUL vs AYTO/HA
 NDBALL MANZANARES
URL:https://www.ciudadreal.es/agenda-turismo/83-deporte/20856-balonmano-inf
 antil-masculino-globalcaja-bm-caserio-azul-vs-ayto-handball-manzanares.htm
 l
X-ALT-DESC;FMTTYPE=TEXT/HTML:<p>A cargo de: Globalcaja BM Caserio Azul y Ay
 to/Handball Manzanares<br data-start='4150' data-end='4153' /> Lugar: Poli
 deportivo Rey Juan Carlos I – Pabellón<br data-start='4202' data-end='4205
 ' /> Fecha y hora: Sábado 31 de enero de 2026\, 11:00 h</p>\n<hr />\n<p><e
 m class='pdf'><a href='documentos/cultura/2026/ACTIVIDAD_FIN_DE_SEMANA_29_
 enero.pdf' target='_blank'>Actividad Fin De Semana 29 Enero&gt\;&gt\;</a><
 /em></p>
END:VEVENT
END:VCALENDAR
