BEGIN:VCALENDAR
VERSION:2.0
PRODID:-//https://www.ciudadreal.es//NONSGML kigkonsult.se iCalcreator 2.29
 .29//
CALSCALE:GREGORIAN
METHOD:PUBLISH
UID:c54d42a1-8be4-4c29-b15b-c436c6bb91dd
X-WR-CALNAME:JCal Pro Calendar
X-WR-CALDESC:Tu calendario de eventos online.
X-WR-TIMEZONE:Europe/Madrid
BEGIN:VTIMEZONE
TZID:Europe/Madrid
BEGIN:STANDARD
TZNAME:CET
DTSTART:20251026T030000
TZOFFSETFROM:+0200
TZOFFSETTO:+0100
RDATE:20261025T030000
END:STANDARD
BEGIN:DAYLIGHT
TZNAME:CEST
DTSTART:20260329T020000
TZOFFSETFROM:+0100
TZOFFSETTO:+0200
RDATE:20270328T020000
END:DAYLIGHT
END:VTIMEZONE
BEGIN:VEVENT
UID:20260131T100000CET-0027azoIMd@https://www.ciudadreal.es/
DTSTAMP:20260422T183315Z
CATEGORIES:Deporte
DESCRIPTION:<p>A cargo de: Manchego Eladio y CD Ciudad Real CF Gris<br data
 -start='3891' data-end='3894' /> Lugar: Polideportivo Rey Juan Carlos I – 
 Campo 3<br data-start='3942' data-end='3945' /> Fecha y hora: Sábado 31 de
  enero de 2026\, 10:00 h</p>\n<hr />\n<p><em class='pdf'><a href='document
 os/cultura/2026/ACTIVIDAD_FIN_DE_SEMANA_29_enero.pdf' target='_blank'>Acti
 vidad Fin De Semana 29 Enero&gt\;&gt\;</a></em></p>
DTSTART;TZID=Europe/Madrid:20260131T100000
DTEND;TZID=Europe/Madrid:20260131T100000
SUMMARY:FÚTBOL CADETE MASCULINO: MANCHEGO ELADIO vs CD CIUDAD REAL CF GRIS
URL:https://www.ciudadreal.es/agenda-turismo/83-deporte/20855-futbol-cadete
 -masculino-manchego-eladio-vs-cd-ciudad-real-cf-gris.html
X-ALT-DESC;FMTTYPE=TEXT/HTML:<p>A cargo de: Manchego Eladio y CD Ciudad Rea
 l CF Gris<br data-start='3891' data-end='3894' /> Lugar: Polideportivo Rey
  Juan Carlos I – Campo 3<br data-start='3942' data-end='3945' /> Fecha y h
 ora: Sábado 31 de enero de 2026\, 10:00 h</p>\n<hr />\n<p><em class='pdf'>
 <a href='documentos/cultura/2026/ACTIVIDAD_FIN_DE_SEMANA_29_enero.pdf' tar
 get='_blank'>Actividad Fin De Semana 29 Enero&gt\;&gt\;</a></em></p>
END:VEVENT
END:VCALENDAR
