BEGIN:VCALENDAR
VERSION:2.0
PRODID:-//https://www.ciudadreal.es//NONSGML kigkonsult.se iCalcreator 2.29
 .29//
CALSCALE:GREGORIAN
METHOD:PUBLISH
UID:441fdbb7-a833-41b6-bec1-7519c3e0fd80
X-WR-CALNAME:JCal Pro Calendar
X-WR-CALDESC:Tu calendario de eventos online.
X-WR-TIMEZONE:Europe/Madrid
BEGIN:VTIMEZONE
TZID:Europe/Madrid
BEGIN:STANDARD
TZNAME:CET
DTSTART:20251026T030000
TZOFFSETFROM:+0200
TZOFFSETTO:+0100
RDATE:20261025T030000
END:STANDARD
BEGIN:DAYLIGHT
TZNAME:CEST
DTSTART:20260329T020000
TZOFFSETFROM:+0100
TZOFFSETTO:+0200
RDATE:20270328T020000
END:DAYLIGHT
END:VTIMEZONE
BEGIN:VEVENT
UID:20260131T100000CET-4980TZkpJa@https://www.ciudadreal.es/
DTSTAMP:20260422T183356Z
CATEGORIES:Deporte
DESCRIPTION:<p>A cargo de: Globalcaja BM Caserio AF y E.D.B. Carrión<br dat
 a-start='3662' data-end='3665' /> Lugar: Polideportivo Rey Juan Carlos I –
  Pabellón<br data-start='3714' data-end='3717' /> Fecha y hora: Sábado 31 
 de enero de 2026\, 10:00 h</p>\n<hr />\n<p><em class='pdf'><a href='docume
 ntos/cultura/2026/ACTIVIDAD_FIN_DE_SEMANA_29_enero.pdf' target='_blank'>Ac
 tividad Fin De Semana 29 Enero&gt\;&gt\;</a></em></p>
DTSTART;TZID=Europe/Madrid:20260131T100000
DTEND;TZID=Europe/Madrid:20260131T100000
SUMMARY:BALONMANO ALEVÍN FEMENINO: GLOBALCAJA BM CASERIO AF vs E.D.B. CARRI
 ÓN
URL:https://www.ciudadreal.es/agenda-turismo/83-deporte/20854-balonmano-ale
 vin-femenino-globalcaja-bm-caserio-af-vs-e-d-b-carrion.html
X-ALT-DESC;FMTTYPE=TEXT/HTML:<p>A cargo de: Globalcaja BM Caserio AF y E.D.
 B. Carrión<br data-start='3662' data-end='3665' /> Lugar: Polideportivo Re
 y Juan Carlos I – Pabellón<br data-start='3714' data-end='3717' /> Fecha y
  hora: Sábado 31 de enero de 2026\, 10:00 h</p>\n<hr />\n<p><em class='pdf
 '><a href='documentos/cultura/2026/ACTIVIDAD_FIN_DE_SEMANA_29_enero.pdf' t
 arget='_blank'>Actividad Fin De Semana 29 Enero&gt\;&gt\;</a></em></p>
END:VEVENT
END:VCALENDAR
