BEGIN:VCALENDAR
VERSION:2.0
PRODID:-//https://www.ciudadreal.es//NONSGML kigkonsult.se iCalcreator 2.29
 .29//
CALSCALE:GREGORIAN
METHOD:PUBLISH
UID:afcc8579-f2bd-45df-b41a-c5c000e4e52f
X-WR-CALNAME:JCal Pro Calendar
X-WR-CALDESC:Tu calendario de eventos online.
X-WR-TIMEZONE:Europe/Madrid
BEGIN:VTIMEZONE
TZID:Europe/Madrid
BEGIN:STANDARD
TZNAME:CET
DTSTART:20251026T030000
TZOFFSETFROM:+0200
TZOFFSETTO:+0100
RDATE:20261025T030000
END:STANDARD
BEGIN:DAYLIGHT
TZNAME:CEST
DTSTART:20260329T020000
TZOFFSETFROM:+0100
TZOFFSETTO:+0200
RDATE:20270328T020000
END:DAYLIGHT
END:VTIMEZONE
BEGIN:VEVENT
UID:20260131T093000CET-23504GUzvc@https://www.ciudadreal.es/
DTSTAMP:20260422T183928Z
CATEGORIES:Deporte
DESCRIPTION:<p>A cargo de: CD Ciudad Real FC Amarillo y Prado-Marianistas B
 <br data-start='3430' data-end='3433' /> Lugar: Polideportivo Rey Juan Car
 los I – Campo 2<br data-start='3481' data-end='3484' /> Fecha y hora: Sába
 do 31 de enero de 2026\, 09:30 h</p>\n<hr />\n<p><em class='pdf'><a href='
 documentos/cultura/2026/ACTIVIDAD_FIN_DE_SEMANA_29_enero.pdf' target='_bla
 nk'>Actividad Fin De Semana 29 Enero&gt\;&gt\;</a></em></p>
DTSTART;TZID=Europe/Madrid:20260131T093000
DTEND;TZID=Europe/Madrid:20260131T093000
SUMMARY:FÚTBOL INFANTIL MASCULINO: CD CIUDAD REAL FC AMARILLO vs PRADO-MARI
 ANISTAS B
URL:https://www.ciudadreal.es/agenda-turismo/83-deporte/20853-futbol-infant
 il-masculino-cd-ciudad-real-fc-amarillo-vs-prado-marianistas-b.html
X-ALT-DESC;FMTTYPE=TEXT/HTML:<p>A cargo de: CD Ciudad Real FC Amarillo y Pr
 ado-Marianistas B<br data-start='3430' data-end='3433' /> Lugar: Polidepor
 tivo Rey Juan Carlos I – Campo 2<br data-start='3481' data-end='3484' /> F
 echa y hora: Sábado 31 de enero de 2026\, 09:30 h</p>\n<hr />\n<p><em clas
 s='pdf'><a href='documentos/cultura/2026/ACTIVIDAD_FIN_DE_SEMANA_29_enero.
 pdf' target='_blank'>Actividad Fin De Semana 29 Enero&gt\;&gt\;</a></em></
 p>
END:VEVENT
END:VCALENDAR
