BEGIN:VCALENDAR
VERSION:2.0
PRODID:-//https://www.ciudadreal.es//NONSGML kigkonsult.se iCalcreator 2.29
 .29//
CALSCALE:GREGORIAN
METHOD:PUBLISH
UID:f8c9e5e0-e9ac-45fd-956b-749b1b00f966
X-WR-CALNAME:JCal Pro Calendar
X-WR-CALDESC:Tu calendario de eventos online.
X-WR-TIMEZONE:Europe/Madrid
BEGIN:VTIMEZONE
TZID:Europe/Madrid
BEGIN:STANDARD
TZNAME:CET
DTSTART:20251026T030000
TZOFFSETFROM:+0200
TZOFFSETTO:+0100
RDATE:20261025T030000
END:STANDARD
BEGIN:DAYLIGHT
TZNAME:CEST
DTSTART:20260329T020000
TZOFFSETFROM:+0100
TZOFFSETTO:+0200
RDATE:20270328T020000
END:DAYLIGHT
END:VTIMEZONE
BEGIN:VEVENT
UID:20260131T090000CET-4764D0cvlV@https://www.ciudadreal.es/
DTSTAMP:20260422T185532Z
CATEGORIES:Deporte
DESCRIPTION:<p>A cargo de: Prado-Marianistas A y Ayto. Miguelturra Azul<br 
 data-start='2935' data-end='2938' /> Lugar: Polideportivo Rey Juan Carlos 
 I – Pabellón<br data-start='2987' data-end='2990' /> Fecha y hora: Sábado 
 31 de enero de 2026\, 09:00 h</p>\n<hr />\n<p><em class='pdf'><a href='doc
 umentos/cultura/2026/ACTIVIDAD_FIN_DE_SEMANA_29_enero.pdf' target='_blank'
 >Actividad Fin De Semana 29 Enero&gt\;&gt\;</a></em></p>
DTSTART;TZID=Europe/Madrid:20260131T090000
DTEND;TZID=Europe/Madrid:20260131T090000
SUMMARY:VOLEIBOL INFANTIL FEMENINO: PRADO-MARIANISTAS A vs AYTO. MIGUELTURR
 A AZUL
URL:https://www.ciudadreal.es/agenda-turismo/83-deporte/20851-voleibol-infa
 ntil-femenino-prado-marianistas-a-vs-ayto-miguelturra-azul.html
X-ALT-DESC;FMTTYPE=TEXT/HTML:<p>A cargo de: Prado-Marianistas A y Ayto. Mig
 uelturra Azul<br data-start='2935' data-end='2938' /> Lugar: Polideportivo
  Rey Juan Carlos I – Pabellón<br data-start='2987' data-end='2990' /> Fech
 a y hora: Sábado 31 de enero de 2026\, 09:00 h</p>\n<hr />\n<p><em class='
 pdf'><a href='documentos/cultura/2026/ACTIVIDAD_FIN_DE_SEMANA_29_enero.pdf
 ' target='_blank'>Actividad Fin De Semana 29 Enero&gt\;&gt\;</a></em></p>
END:VEVENT
END:VCALENDAR
