BEGIN:VCALENDAR
VERSION:2.0
PRODID:-//https://www.ciudadreal.es//NONSGML kigkonsult.se iCalcreator 2.29
 .29//
CALSCALE:GREGORIAN
METHOD:PUBLISH
UID:4efe807b-6439-4356-8ec4-2370078fa89c
X-WR-CALNAME:JCal Pro Calendar
X-WR-CALDESC:Tu calendario de eventos online.
X-WR-TIMEZONE:Europe/Madrid
BEGIN:VTIMEZONE
TZID:Europe/Madrid
BEGIN:STANDARD
TZNAME:CET
DTSTART:20251026T030000
TZOFFSETFROM:+0200
TZOFFSETTO:+0100
RDATE:20261025T030000
END:STANDARD
BEGIN:DAYLIGHT
TZNAME:CEST
DTSTART:20260329T020000
TZOFFSETFROM:+0100
TZOFFSETTO:+0200
RDATE:20270328T020000
END:DAYLIGHT
END:VTIMEZONE
BEGIN:VEVENT
UID:20260131T090000CET-1308pE1Xi2@https://www.ciudadreal.es/
DTSTAMP:20260422T183943Z
CATEGORIES:Deporte
DESCRIPTION:<p>A cargo de: Prado-Marianistas A y EDM Sales Puertollano Azul
 <br data-start='2695' data-end='2698' /> Lugar: Polideportivo Rey Juan Car
 los I – Pabellón<br data-start='2747' data-end='2750' /> Fecha y hora: Sáb
 ado 31 de enero de 2026\, 09:00 h</p>\n<hr />\n<p><em class='pdf'><a href=
 'documentos/cultura/2026/ACTIVIDAD_FIN_DE_SEMANA_29_enero.pdf' target='_bl
 ank'>Actividad Fin De Semana 29 Enero&gt\;&gt\;</a></em></p>
DTSTART;TZID=Europe/Madrid:20260131T090000
DTEND;TZID=Europe/Madrid:20260131T090000
SUMMARY:VOLEIBOL ALEVÍN FEMENINO: PRADO-MARIANISTAS A vs EDM SALES PUERTOLL
 ANO AZUL
URL:https://www.ciudadreal.es/agenda-turismo/83-deporte/20850-voleibol-alev
 in-femenino-prado-marianistas-a-vs-edm-sales-puertollano-azul.html
X-ALT-DESC;FMTTYPE=TEXT/HTML:<p>A cargo de: Prado-Marianistas A y EDM Sales
  Puertollano Azul<br data-start='2695' data-end='2698' /> Lugar: Polidepor
 tivo Rey Juan Carlos I – Pabellón<br data-start='2747' data-end='2750' /> 
 Fecha y hora: Sábado 31 de enero de 2026\, 09:00 h</p>\n<hr />\n<p><em cla
 ss='pdf'><a href='documentos/cultura/2026/ACTIVIDAD_FIN_DE_SEMANA_29_enero
 .pdf' target='_blank'>Actividad Fin De Semana 29 Enero&gt\;&gt\;</a></em><
 /p>
END:VEVENT
END:VCALENDAR
