BEGIN:VCALENDAR
VERSION:2.0
PRODID:-//https://www.ciudadreal.es//NONSGML kigkonsult.se iCalcreator 2.29
 .29//
CALSCALE:GREGORIAN
METHOD:PUBLISH
UID:b0837e41-32e8-45d5-8412-b7dbe65726cd
X-WR-CALNAME:JCal Pro Calendar
X-WR-CALDESC:Tu calendario de eventos online.
X-WR-TIMEZONE:Europe/Madrid
BEGIN:VTIMEZONE
TZID:Europe/Madrid
BEGIN:STANDARD
TZNAME:CET
DTSTART:20251026T030000
TZOFFSETFROM:+0200
TZOFFSETTO:+0100
RDATE:20261025T030000
END:STANDARD
BEGIN:DAYLIGHT
TZNAME:CEST
DTSTART:20260329T020000
TZOFFSETFROM:+0100
TZOFFSETTO:+0200
RDATE:20270328T020000
END:DAYLIGHT
END:VTIMEZONE
BEGIN:VEVENT
UID:20260130T171500CET-732040VcHF@https://www.ciudadreal.es/
DTSTAMP:20260422T183631Z
CATEGORIES:Deporte
DESCRIPTION:<p>A cargo de: CD Ciudad Real FC Verde y CD Ciudad Real FC Púrp
 ura<br data-start='1519' data-end='1522' /> Lugar: Polideportivo Rey Juan 
 Carlos I – Campo 4<br data-start='1570' data-end='1573' /> Fecha y hora: V
 iernes 30 de enero de 2026\, 17:15 h</p>\n<hr />\n<p><em class='pdf'><a hr
 ef='documentos/cultura/2026/ACTIVIDAD_FIN_DE_SEMANA_29_enero.pdf' target='
 _blank'>Actividad Fin De Semana 29 Enero&gt\;&gt\;</a></em></p>
DTSTART;TZID=Europe/Madrid:20260130T171500
DTEND;TZID=Europe/Madrid:20260130T171500
SUMMARY:FÚTBOL PREBENJAMÍN: CD CIUDAD REAL FC VERDE vs CD CIUDAD REAL FC PÚ
 RPURA
URL:https://www.ciudadreal.es/agenda-turismo/83-deporte/20845-futbol-preben
 jamin-cd-ciudad-real-fc-verde-vs-cd-ciudad-real-fc-purpura.html
X-ALT-DESC;FMTTYPE=TEXT/HTML:<p>A cargo de: CD Ciudad Real FC Verde y CD Ci
 udad Real FC Púrpura<br data-start='1519' data-end='1522' /> Lugar: Polide
 portivo Rey Juan Carlos I – Campo 4<br data-start='1570' data-end='1573' /
 > Fecha y hora: Viernes 30 de enero de 2026\, 17:15 h</p>\n<hr />\n<p><em 
 class='pdf'><a href='documentos/cultura/2026/ACTIVIDAD_FIN_DE_SEMANA_29_en
 ero.pdf' target='_blank'>Actividad Fin De Semana 29 Enero&gt\;&gt\;</a></e
 m></p>
END:VEVENT
END:VCALENDAR
