BEGIN:VCALENDAR
VERSION:2.0
PRODID:-//https://www.ciudadreal.es//NONSGML kigkonsult.se iCalcreator 2.29
 .29//
CALSCALE:GREGORIAN
METHOD:PUBLISH
UID:f0cba525-91aa-4bf5-9525-198b1fe55649
X-WR-CALNAME:JCal Pro Calendar
X-WR-CALDESC:Tu calendario de eventos online.
X-WR-TIMEZONE:Europe/Madrid
BEGIN:VTIMEZONE
TZID:Europe/Madrid
BEGIN:STANDARD
TZNAME:CET
DTSTART:20251026T030000
TZOFFSETFROM:+0200
TZOFFSETTO:+0100
RDATE:20261025T030000
END:STANDARD
BEGIN:DAYLIGHT
TZNAME:CEST
DTSTART:20260329T020000
TZOFFSETFROM:+0100
TZOFFSETTO:+0200
RDATE:20270328T020000
END:DAYLIGHT
END:VTIMEZONE
BEGIN:VEVENT
UID:20260130T163000CET-26891HOXbk@https://www.ciudadreal.es/
DTSTAMP:20260422T183617Z
CATEGORIES:Deporte
DESCRIPTION:<p>A cargo de: CD Manchego Prieto y CD Ciudad Real FC Magenta<b
 r data-start='1060' data-end='1063' /> Lugar: Polideportivo Rey Juan Carlo
 s I – Campo 3 A<br data-start='1113' data-end='1116' /> Fecha y hora: Vier
 nes 30 de enero de 2026\, 16:30 h</p>\n<hr />\n<p><em class='pdf'><a href=
 'documentos/cultura/2026/ACTIVIDAD_FIN_DE_SEMANA_29_enero.pdf' target='_bl
 ank'>Actividad Fin De Semana 29 Enero&gt\;&gt\;</a></em></p>
DTSTART;TZID=Europe/Madrid:20260130T163000
DTEND;TZID=Europe/Madrid:20260130T163000
SUMMARY:FÚTBOL ALEVÍN MASCULINO: CD MANCHEGO PRIETO vs CD CIUDAD REAL FC MA
 GENTA
URL:https://www.ciudadreal.es/agenda-turismo/83-deporte/20843-futbol-alevin
 -masculino-cd-manchego-prieto-vs-cd-ciudad-real-fc-magenta.html
X-ALT-DESC;FMTTYPE=TEXT/HTML:<p>A cargo de: CD Manchego Prieto y CD Ciudad 
 Real FC Magenta<br data-start='1060' data-end='1063' /> Lugar: Polideporti
 vo Rey Juan Carlos I – Campo 3 A<br data-start='1113' data-end='1116' /> F
 echa y hora: Viernes 30 de enero de 2026\, 16:30 h</p>\n<hr />\n<p><em cla
 ss='pdf'><a href='documentos/cultura/2026/ACTIVIDAD_FIN_DE_SEMANA_29_enero
 .pdf' target='_blank'>Actividad Fin De Semana 29 Enero&gt\;&gt\;</a></em><
 /p>
END:VEVENT
END:VCALENDAR
