BEGIN:VCALENDAR
VERSION:2.0
PRODID:-//https://www.ciudadreal.es//NONSGML kigkonsult.se iCalcreator 2.29
 .29//
CALSCALE:GREGORIAN
METHOD:PUBLISH
UID:48444495-8418-4017-b071-d96a6cc19f32
X-WR-CALNAME:JCal Pro Calendar
X-WR-CALDESC:Tu calendario de eventos online.
X-WR-TIMEZONE:Europe/Madrid
BEGIN:VTIMEZONE
TZID:Europe/Madrid
BEGIN:STANDARD
TZNAME:CET
DTSTART:20251026T030000
TZOFFSETFROM:+0200
TZOFFSETTO:+0100
RDATE:20261025T030000
END:STANDARD
BEGIN:DAYLIGHT
TZNAME:CEST
DTSTART:20260329T020000
TZOFFSETFROM:+0100
TZOFFSETTO:+0200
RDATE:20270328T020000
END:DAYLIGHT
END:VTIMEZONE
BEGIN:VEVENT
UID:20260130T163000CET-8503sK3pWn@https://www.ciudadreal.es/
DTSTAMP:20260422T183740Z
CATEGORIES:Deporte
DESCRIPTION:<p>A cargo de: CD Manchego Juan Carlos y CD Ciudad Real FC Nara
 nja<br data-start='817' data-end='820' /> Lugar: Polideportivo Rey Juan Ca
 rlos I – Campo 2 B<br data-start='870' data-end='873' /> Fecha y hora: Vie
 rnes 30 de enero de 2026\, 16:30 h</p>\n<hr />\n<p><em class='pdf'><a href
 ='documentos/cultura/2026/ACTIVIDAD_FIN_DE_SEMANA_29_enero.pdf' target='_b
 lank'>Actividad Fin De Semana 29 Enero&gt\;&gt\;</a></em></p>
DTSTART;TZID=Europe/Madrid:20260130T163000
DTEND;TZID=Europe/Madrid:20260130T163000
SUMMARY:FÚTBOL ALEVÍN MASCULINO: CD MANCHEGO JUAN CARLOS vs CD CIUDAD REAL 
 FC NARANJA
URL:https://www.ciudadreal.es/agenda-turismo/83-deporte/20842-futbol-alevin
 -masculino-cd-manchego-juan-carlos-vs-cd-ciudad-real-fc-naranja.html
X-ALT-DESC;FMTTYPE=TEXT/HTML:<p>A cargo de: CD Manchego Juan Carlos y CD Ci
 udad Real FC Naranja<br data-start='817' data-end='820' /> Lugar: Polidepo
 rtivo Rey Juan Carlos I – Campo 2 B<br data-start='870' data-end='873' /> 
 Fecha y hora: Viernes 30 de enero de 2026\, 16:30 h</p>\n<hr />\n<p><em cl
 ass='pdf'><a href='documentos/cultura/2026/ACTIVIDAD_FIN_DE_SEMANA_29_ener
 o.pdf' target='_blank'>Actividad Fin De Semana 29 Enero&gt\;&gt\;</a></em>
 </p>
END:VEVENT
END:VCALENDAR
