BEGIN:VCALENDAR
VERSION:2.0
PRODID:-//https://www.ciudadreal.es//NONSGML kigkonsult.se iCalcreator 2.29
 .29//
CALSCALE:GREGORIAN
METHOD:PUBLISH
UID:e7584017-49fa-47aa-9cca-f65d85840bb2
X-WR-CALNAME:JCal Pro Calendar
X-WR-CALDESC:Tu calendario de eventos online.
X-WR-TIMEZONE:Europe/Madrid
BEGIN:VTIMEZONE
TZID:Europe/Madrid
BEGIN:STANDARD
TZNAME:CET
DTSTART:20251026T030000
TZOFFSETFROM:+0200
TZOFFSETTO:+0100
RDATE:20261025T030000
END:STANDARD
BEGIN:DAYLIGHT
TZNAME:CEST
DTSTART:20260329T020000
TZOFFSETFROM:+0100
TZOFFSETTO:+0200
RDATE:20270328T020000
END:DAYLIGHT
END:VTIMEZONE
BEGIN:VEVENT
UID:20260130T163000CET-1104vw1SUk@https://www.ciudadreal.es/
DTSTAMP:20260422T183531Z
CATEGORIES:Deporte
DESCRIPTION:<p>A cargo de: Prado-Marianistas B y CD Santo Tomás B<br data-s
 tart='564' data-end='567' /> Lugar: Polideportivo Rey Juan Carlos I – Camp
 o 3 B<br data-start='617' data-end='620' /> Fecha y hora: Viernes 30 de en
 ero de 2026\, 16:30 h</p>\n<hr />\n<p><em class='pdf'><a href='documentos/
 cultura/2026/ACTIVIDAD_FIN_DE_SEMANA_29_enero.pdf' target='_blank'>Activid
 ad Fin De Semana 29 Enero&gt\;&gt\;</a></em></p>
DTSTART;TZID=Europe/Madrid:20260130T163000
DTEND;TZID=Europe/Madrid:20260130T163000
SUMMARY:FÚTBOL ALEVÍN MASCULINO: PRADO-MARIANISTAS B vs CD SANTO TOMÁS B
URL:https://www.ciudadreal.es/agenda-turismo/83-deporte/20841-futbol-alevin
 -masculino-prado-marianistas-b-vs-cd-santo-tomas-b.html
X-ALT-DESC;FMTTYPE=TEXT/HTML:<p>A cargo de: Prado-Marianistas B y CD Santo 
 Tomás B<br data-start='564' data-end='567' /> Lugar: Polideportivo Rey Jua
 n Carlos I – Campo 3 B<br data-start='617' data-end='620' /> Fecha y hora:
  Viernes 30 de enero de 2026\, 16:30 h</p>\n<hr />\n<p><em class='pdf'><a 
 href='documentos/cultura/2026/ACTIVIDAD_FIN_DE_SEMANA_29_enero.pdf' target
 ='_blank'>Actividad Fin De Semana 29 Enero&gt\;&gt\;</a></em></p>
END:VEVENT
END:VCALENDAR
