BEGIN:VCALENDAR
VERSION:2.0
PRODID:-//https://www.ciudadreal.es//NONSGML kigkonsult.se iCalcreator 2.29
 .29//
CALSCALE:GREGORIAN
METHOD:PUBLISH
UID:7223fe67-f0b8-42c5-a6ee-7e48e1490839
X-WR-CALNAME:JCal Pro Calendar
X-WR-CALDESC:Tu calendario de eventos online.
X-WR-TIMEZONE:Europe/Madrid
BEGIN:VTIMEZONE
TZID:Europe/Madrid
BEGIN:STANDARD
TZNAME:CET
DTSTART:20251026T030000
TZOFFSETFROM:+0200
TZOFFSETTO:+0100
RDATE:20261025T030000
END:STANDARD
BEGIN:DAYLIGHT
TZNAME:CEST
DTSTART:20260329T020000
TZOFFSETFROM:+0100
TZOFFSETTO:+0200
RDATE:20270328T020000
END:DAYLIGHT
END:VTIMEZONE
BEGIN:VEVENT
UID:20260130T161500CET-7727CAuwsL@https://www.ciudadreal.es/
DTSTAMP:20260422T183304Z
CATEGORIES:Deporte
DESCRIPTION:<p>A cargo de: CD Manchego B y CD Ciudad Real FC Rojo<br data-s
 tart='112' data-end='115' /> Lugar: Polideportivo Rey Juan Carlos I – Camp
 o 4<br data-start='163' data-end='166' /> Fecha y hora: Viernes 30 de ener
 o de 2026\, 16:15 h</p>\n<hr />\n<p><em class='pdf'><a href='documentos/cu
 ltura/2026/ACTIVIDAD_FIN_DE_SEMANA_29_enero.pdf' target='_blank'>Actividad
  Fin De Semana 29 Enero&gt\;&gt\;</a></em></p>\n<!--<p><em class='pdf'><a 
 href='documentos/cultura/2026/Lunes_Musical_Febrero_2026.pdf' target='_bla
 nk'>Programación Cultura Febrero 2026&gt\;&gt\;</a></em></p>-->
DTSTART;TZID=Europe/Madrid:20260130T161500
DTEND;TZID=Europe/Madrid:20260130T161500
SUMMARY:FÚTBOL PREBENJAMÍN: CD MANCHEGO B vs CD CIUDAD REAL FC ROJO
URL:https://www.ciudadreal.es/agenda-turismo/83-deporte/20839-futbol-preben
 jamin-cd-manchego-b-vs-cd-ciudad-real-fc-rojo.html
X-ALT-DESC;FMTTYPE=TEXT/HTML:<p>A cargo de: CD Manchego B y CD Ciudad Real 
 FC Rojo<br data-start='112' data-end='115' /> Lugar: Polideportivo Rey Jua
 n Carlos I – Campo 4<br data-start='163' data-end='166' /> Fecha y hora: V
 iernes 30 de enero de 2026\, 16:15 h</p>\n<hr />\n<p><em class='pdf'><a hr
 ef='documentos/cultura/2026/ACTIVIDAD_FIN_DE_SEMANA_29_enero.pdf' target='
 _blank'>Actividad Fin De Semana 29 Enero&gt\;&gt\;</a></em></p>\n<!--<p><e
 m class='pdf'><a href='documentos/cultura/2026/Lunes_Musical_Febrero_2026.
 pdf' target='_blank'>Programación Cultura Febrero 2026&gt\;&gt\;</a></em><
 /p>-->
END:VEVENT
END:VCALENDAR
