BEGIN:VCALENDAR
VERSION:2.0
PRODID:-//https://www.ciudadreal.es//NONSGML kigkonsult.se iCalcreator 2.29
 .29//
CALSCALE:GREGORIAN
METHOD:PUBLISH
UID:3ad87e09-5741-48fd-b993-e4b3a3f83d2c
X-WR-CALNAME:JCal Pro Calendar
X-WR-CALDESC:Tu calendario de eventos online.
X-WR-TIMEZONE:Europe/Madrid
BEGIN:VTIMEZONE
TZID:Europe/Madrid
BEGIN:STANDARD
TZNAME:CET
DTSTART:20251026T030000
TZOFFSETFROM:+0200
TZOFFSETTO:+0100
RDATE:20261025T030000
END:STANDARD
BEGIN:DAYLIGHT
TZNAME:CEST
DTSTART:20260329T020000
TZOFFSETFROM:+0100
TZOFFSETTO:+0200
RDATE:20270328T020000
END:DAYLIGHT
END:VTIMEZONE
BEGIN:VEVENT
UID:20260103T100000CET-0386n9aLJz@https://www.ciudadreal.es/
DTSTAMP:20260423T013444Z
CATEGORIES:Deporte
DESCRIPTION:<p>A cargo de: CIUDAD REAL F.C.<br data-start='2016' data-end='
 2019' /> Lugar: POLIDEPORTIVO REY JUAN CARLOS I – CAMPO 2<br data-start='2
 067' data-end='2070' /> Fecha y hora: Sábado 3 de enero de 2026\, 10:00 a 
 14:00 h</p>\n<hr />\n<p><em class='pdf'><a href='documentos/cultura/2025/A
 CTIVIDADES_NAVIDAD_Del_22-dic_al_3-ene.pdf' target='_blank'>Actividades Na
 vidad del 22 de Diciembre 2025 al 03 de Enero 2026&gt\;&gt\;</a></em></p>
DTSTART;TZID=Europe/Madrid:20260103T100000
DTEND;TZID=Europe/Madrid:20260103T140000
SUMMARY:XXXI TROFEO MANOLO MORENO FUTBOL-8 ALEVÍN
URL:https://www.ciudadreal.es/agenda-turismo/83-deporte/20816-xxxi-trofeo-m
 anolo-moreno-futbol-8-alevin.html
X-ALT-DESC;FMTTYPE=TEXT/HTML:<p>A cargo de: CIUDAD REAL F.C.<br data-start=
 '2016' data-end='2019' /> Lugar: POLIDEPORTIVO REY JUAN CARLOS I – CAMPO 2
 <br data-start='2067' data-end='2070' /> Fecha y hora: Sábado 3 de enero d
 e 2026\, 10:00 a 14:00 h</p>\n<hr />\n<p><em class='pdf'><a href='document
 os/cultura/2025/ACTIVIDADES_NAVIDAD_Del_22-dic_al_3-ene.pdf' target='_blan
 k'>Actividades Navidad del 22 de Diciembre 2025 al 03 de Enero 2026&gt\;&g
 t\;</a></em></p>
END:VEVENT
END:VCALENDAR
