BEGIN:VCALENDAR
VERSION:2.0
PRODID:-//https://www.ciudadreal.es//NONSGML kigkonsult.se iCalcreator 2.29
 .29//
CALSCALE:GREGORIAN
METHOD:PUBLISH
UID:518fef29-7f02-4c09-934e-17fdd466e53b
X-WR-CALNAME:JCal Pro Calendar
X-WR-CALDESC:Tu calendario de eventos online.
X-WR-TIMEZONE:Europe/Madrid
BEGIN:VTIMEZONE
TZID:Europe/Madrid
BEGIN:STANDARD
TZNAME:CET
DTSTART:20251026T030000
TZOFFSETFROM:+0200
TZOFFSETTO:+0100
RDATE:20261025T030000
END:STANDARD
BEGIN:DAYLIGHT
TZNAME:CEST
DTSTART:20260329T020000
TZOFFSETFROM:+0100
TZOFFSETTO:+0200
RDATE:20270328T020000
END:DAYLIGHT
END:VTIMEZONE
BEGIN:VEVENT
UID:20260103T090000CET-5455Nu0iWD@https://www.ciudadreal.es/
DTSTAMP:20260423T013121Z
CATEGORIES:Deporte
DESCRIPTION:<p>A cargo de: CLUB BASKET CERVANTES CIUDAD REAL<br data-start=
 '1824' data-end='1827' /> Lugar: POLIDEPORTIVO PUERTA DE SANTA MARÍA – PAB
 ELLÓN<br data-start='1880' data-end='1883' /> Fecha y hora: Sábado 3 de en
 ero de 2026\, 9:00 a 14:00 h</p>\n<hr />\n<p><em class='pdf'><a href='docu
 mentos/cultura/2025/ACTIVIDADES_NAVIDAD_Del_22-dic_al_3-ene.pdf' target='_
 blank'>Actividades Navidad del 22 de Diciembre 2025 al 03 de Enero 2026&gt
 \;&gt\;</a></em></p>
DTSTART;TZID=Europe/Madrid:20260103T090000
DTEND;TZID=Europe/Madrid:20260103T140000
SUMMARY:LAS MAÑANAS DEL BASKET
URL:https://www.ciudadreal.es/agenda-turismo/83-deporte/20815-las-mananas-d
 el-basket.html
X-ALT-DESC;FMTTYPE=TEXT/HTML:<p>A cargo de: CLUB BASKET CERVANTES CIUDAD RE
 AL<br data-start='1824' data-end='1827' /> Lugar: POLIDEPORTIVO PUERTA DE 
 SANTA MARÍA – PABELLÓN<br data-start='1880' data-end='1883' /> Fecha y hor
 a: Sábado 3 de enero de 2026\, 9:00 a 14:00 h</p>\n<hr />\n<p><em class='p
 df'><a href='documentos/cultura/2025/ACTIVIDADES_NAVIDAD_Del_22-dic_al_3-e
 ne.pdf' target='_blank'>Actividades Navidad del 22 de Diciembre 2025 al 03
  de Enero 2026&gt\;&gt\;</a></em></p>
END:VEVENT
END:VCALENDAR
