BEGIN:VCALENDAR
VERSION:2.0
PRODID:-//https://www.ciudadreal.es//NONSGML kigkonsult.se iCalcreator 2.29
 .29//
CALSCALE:GREGORIAN
METHOD:PUBLISH
UID:e9a36064-37d0-429a-8d4e-468f62290178
X-WR-CALNAME:JCal Pro Calendar
X-WR-CALDESC:Tu calendario de eventos online.
X-WR-TIMEZONE:Europe/Madrid
BEGIN:VTIMEZONE
TZID:Europe/Madrid
BEGIN:STANDARD
TZNAME:CET
DTSTART:20251026T030000
TZOFFSETFROM:+0200
TZOFFSETTO:+0100
RDATE:20261025T030000
END:STANDARD
BEGIN:DAYLIGHT
TZNAME:CEST
DTSTART:20260329T020000
TZOFFSETFROM:+0100
TZOFFSETTO:+0200
RDATE:20270328T020000
END:DAYLIGHT
END:VTIMEZONE
BEGIN:VEVENT
UID:20251227T090000CET-6375WcSr8P@https://www.ciudadreal.es/
DTSTAMP:20260423T031217Z
CATEGORIES:Deporte
DESCRIPTION:<p>A cargo de: CLUB TEMESA CIUDAD REAL<br data-start='949' data
 -end='952' /> Lugar: PABELLÓN QUIJOTE ARENA – SALA DE TENIS DE MESA<br dat
 a-start='1005' data-end='1008' /> Fecha y hora: Sábado 27 de diciembre de 
 2025\, 9:00 a 15:00 h</p>\n<hr />\n<p><em class='pdf'><a href='documentos/
 cultura/2025/ACTIVIDADES_NAVIDAD_Del_22-dic_al_3-ene.pdf' target='_blank'>
 Actividades Navidad del 22 de Diciembre 2025 al 03 de Enero 2026&gt\;&gt\;
 </a></em></p>
DTSTART;TZID=Europe/Madrid:20251227T090000
DTEND;TZID=Europe/Madrid:20251227T150000
SUMMARY:TORNEO FEDERADO Y FEMENINO TENIS DE MESA
URL:https://www.ciudadreal.es/agenda-turismo/83-deporte/20810-torneo-federa
 do-y-femenino-tenis-de-mesa.html
X-ALT-DESC;FMTTYPE=TEXT/HTML:<p>A cargo de: CLUB TEMESA CIUDAD REAL<br data
 -start='949' data-end='952' /> Lugar: PABELLÓN QUIJOTE ARENA – SALA DE TEN
 IS DE MESA<br data-start='1005' data-end='1008' /> Fecha y hora: Sábado 27
  de diciembre de 2025\, 9:00 a 15:00 h</p>\n<hr />\n<p><em class='pdf'><a 
 href='documentos/cultura/2025/ACTIVIDADES_NAVIDAD_Del_22-dic_al_3-ene.pdf'
  target='_blank'>Actividades Navidad del 22 de Diciembre 2025 al 03 de Ene
 ro 2026&gt\;&gt\;</a></em></p>
END:VEVENT
END:VCALENDAR
