BEGIN:VCALENDAR
VERSION:2.0
PRODID:-//https://www.ciudadreal.es//NONSGML kigkonsult.se iCalcreator 2.29
 .29//
CALSCALE:GREGORIAN
METHOD:PUBLISH
UID:a494c288-cb1e-4026-a81e-4a270bb46c01
X-WR-CALNAME:JCal Pro Calendar
X-WR-CALDESC:Tu calendario de eventos online.
X-WR-TIMEZONE:Europe/Madrid
BEGIN:VTIMEZONE
TZID:Europe/Madrid
BEGIN:STANDARD
TZNAME:CET
DTSTART:20251026T030000
TZOFFSETFROM:+0200
TZOFFSETTO:+0100
RDATE:20261025T030000
END:STANDARD
BEGIN:DAYLIGHT
TZNAME:CEST
DTSTART:20260329T020000
TZOFFSETFROM:+0100
TZOFFSETTO:+0200
RDATE:20270328T020000
END:DAYLIGHT
END:VTIMEZONE
BEGIN:VEVENT
UID:20251226T160000CET-8086DGw74k@https://www.ciudadreal.es/
DTSTAMP:20260423T031545Z
CATEGORIES:Deporte
DESCRIPTION:<p>A cargo de: CLUB SPORTIA Y FEDERACIÓN ESPAÑOLA<br data-start
 ='698' data-end='701' /> Lugar: POLIDEPORTIVO PUERTA DE SANTA MARÍA – PABE
 LLÓN<br data-start='754' data-end='757' /> Fecha y hora: Viernes 26 de dic
 iembre de 2025\, 16:00 a 20:00 h (también: 27\, 28\, 29 y 30-dic\, mismo h
 orario)</p>\n<hr />\n<p><em class='pdf'><a href='documentos/cultura/2025/A
 CTIVIDADES_NAVIDAD_Del_22-dic_al_3-ene.pdf' target='_blank'>Actividades Na
 vidad del 22 de Diciembre 2025 al 03 de Enero 2026&gt\;&gt\;</a></em></p>
DTSTART;TZID=Europe/Madrid:20251226T160000
DTEND;TZID=Europe/Madrid:20251226T200000
SUMMARY:CAMPUS PATINAJE ALTO NIVEL
URL:https://www.ciudadreal.es/agenda-turismo/83-deporte/20809-campus-patina
 je-alto-nivel.html
X-ALT-DESC;FMTTYPE=TEXT/HTML:<p>A cargo de: CLUB SPORTIA Y FEDERACIÓN ESPAÑ
 OLA<br data-start='698' data-end='701' /> Lugar: POLIDEPORTIVO PUERTA DE S
 ANTA MARÍA – PABELLÓN<br data-start='754' data-end='757' /> Fecha y hora: 
 Viernes 26 de diciembre de 2025\, 16:00 a 20:00 h (también: 27\, 28\, 29 y
  30-dic\, mismo horario)</p>\n<hr />\n<p><em class='pdf'><a href='document
 os/cultura/2025/ACTIVIDADES_NAVIDAD_Del_22-dic_al_3-ene.pdf' target='_blan
 k'>Actividades Navidad del 22 de Diciembre 2025 al 03 de Enero 2026&gt\;&g
 t\;</a></em></p>
END:VEVENT
END:VCALENDAR
